BEGIN:VCALENDAR
VERSION:2.0
PRODID:-//EscapeMaker - ECPv6.2.2.1//NONSGML v1.0//EN
CALSCALE:GREGORIAN
METHOD:PUBLISH
X-WR-CALNAME:EscapeMaker
X-ORIGINAL-URL:https://escapemaker.com
X-WR-CALDESC:Events for EscapeMaker
REFRESH-INTERVAL;VALUE=DURATION:PT1H
X-Robots-Tag:noindex
X-PUBLISHED-TTL:PT1H
BEGIN:VTIMEZONE
TZID:America/New_York
BEGIN:STANDARD
TZOFFSETFROM:-0456
TZOFFSETTO:-0500
TZNAME:EST
DTSTART:18831118T170000
END:STANDARD
BEGIN:DAYLIGHT
TZOFFSETFROM:-0500
TZOFFSETTO:-0400
TZNAME:EDT
DTSTART:19180331T070000
END:DAYLIGHT
BEGIN:STANDARD
TZOFFSETFROM:-0400
TZOFFSETTO:-0500
TZNAME:EST
DTSTART:19181027T060000
END:STANDARD
BEGIN:DAYLIGHT
TZOFFSETFROM:-0500
TZOFFSETTO:-0400
TZNAME:EDT
DTSTART:19190330T070000
END:DAYLIGHT
BEGIN:STANDARD
TZOFFSETFROM:-0400
TZOFFSETTO:-0500
TZNAME:EST
DTSTART:19191026T060000
END:STANDARD
BEGIN:DAYLIGHT
TZOFFSETFROM:-0500
TZOFFSETTO:-0400
TZNAME:EDT
DTSTART:19200328T070000
END:DAYLIGHT
BEGIN:STANDARD
TZOFFSETFROM:-0400
TZOFFSETTO:-0500
TZNAME:EST
DTSTART:19201031T060000
END:STANDARD
BEGIN:DAYLIGHT
TZOFFSETFROM:-0500
TZOFFSETTO:-0400
TZNAME:EDT
DTSTART:19210424T070000
END:DAYLIGHT
BEGIN:STANDARD
TZOFFSETFROM:-0400
TZOFFSETTO:-0500
TZNAME:EST
DTSTART:19210925T060000
END:STANDARD
BEGIN:DAYLIGHT
TZOFFSETFROM:-0500
TZOFFSETTO:-0400
TZNAME:EDT
DTSTART:19220430T070000
END:DAYLIGHT
BEGIN:STANDARD
TZOFFSETFROM:-0400
TZOFFSETTO:-0500
TZNAME:EST
DTSTART:19220924T060000
END:STANDARD
BEGIN:DAYLIGHT
TZOFFSETFROM:-0500
TZOFFSETTO:-0400
TZNAME:EDT
DTSTART:19230429T070000
END:DAYLIGHT
BEGIN:STANDARD
TZOFFSETFROM:-0400
TZOFFSETTO:-0500
TZNAME:EST
DTSTART:19230930T060000
END:STANDARD
BEGIN:DAYLIGHT
TZOFFSETFROM:-0500
TZOFFSETTO:-0400
TZNAME:EDT
DTSTART:19240427T070000
END:DAYLIGHT
BEGIN:STANDARD
TZOFFSETFROM:-0400
TZOFFSETTO:-0500
TZNAME:EST
DTSTART:19240928T060000
END:STANDARD
BEGIN:DAYLIGHT
TZOFFSETFROM:-0500
TZOFFSETTO:-0400
TZNAME:EDT
DTSTART:19250426T070000
END:DAYLIGHT
BEGIN:STANDARD
TZOFFSETFROM:-0400
TZOFFSETTO:-0500
TZNAME:EST
DTSTART:19250927T060000
END:STANDARD
BEGIN:DAYLIGHT
TZOFFSETFROM:-0500
TZOFFSETTO:-0400
TZNAME:EDT
DTSTART:19260425T070000
END:DAYLIGHT
BEGIN:STANDARD
TZOFFSETFROM:-0400
TZOFFSETTO:-0500
TZNAME:EST
DTSTART:19260926T060000
END:STANDARD
BEGIN:DAYLIGHT
TZOFFSETFROM:-0500
TZOFFSETTO:-0400
TZNAME:EDT
DTSTART:19270424T070000
END:DAYLIGHT
BEGIN:STANDARD
TZOFFSETFROM:-0400
TZOFFSETTO:-0500
TZNAME:EST
DTSTART:19270925T060000
END:STANDARD
BEGIN:DAYLIGHT
TZOFFSETFROM:-0500
TZOFFSETTO:-0400
TZNAME:EDT
DTSTART:19280429T070000
END:DAYLIGHT
BEGIN:STANDARD
TZOFFSETFROM:-0400
TZOFFSETTO:-0500
TZNAME:EST
DTSTART:19280930T060000
END:STANDARD
BEGIN:DAYLIGHT
TZOFFSETFROM:-0500
TZOFFSETTO:-0400
TZNAME:EDT
DTSTART:19290428T070000
END:DAYLIGHT
BEGIN:STANDARD
TZOFFSETFROM:-0400
TZOFFSETTO:-0500
TZNAME:EST
DTSTART:19290929T060000
END:STANDARD
BEGIN:DAYLIGHT
TZOFFSETFROM:-0500
TZOFFSETTO:-0400
TZNAME:EDT
DTSTART:19300427T070000
END:DAYLIGHT
BEGIN:STANDARD
TZOFFSETFROM:-0400
TZOFFSETTO:-0500
TZNAME:EST
DTSTART:19300928T060000
END:STANDARD
BEGIN:DAYLIGHT
TZOFFSETFROM:-0500
TZOFFSETTO:-0400
TZNAME:EDT
DTSTART:19310426T070000
END:DAYLIGHT
BEGIN:STANDARD
TZOFFSETFROM:-0400
TZOFFSETTO:-0500
TZNAME:EST
DTSTART:19310927T060000
END:STANDARD
BEGIN:DAYLIGHT
TZOFFSETFROM:-0500
TZOFFSETTO:-0400
TZNAME:EDT
DTSTART:19320424T070000
END:DAYLIGHT
BEGIN:STANDARD
TZOFFSETFROM:-0400
TZOFFSETTO:-0500
TZNAME:EST
DTSTART:19320925T060000
END:STANDARD
BEGIN:DAYLIGHT
TZOFFSETFROM:-0500
TZOFFSETTO:-0400
TZNAME:EDT
DTSTART:19330430T070000
END:DAYLIGHT
BEGIN:STANDARD
TZOFFSETFROM:-0400
TZOFFSETTO:-0500
TZNAME:EST
DTSTART:19330924T060000
END:STANDARD
BEGIN:DAYLIGHT
TZOFFSETFROM:-0500
TZOFFSETTO:-0400
TZNAME:EDT
DTSTART:19340429T070000
END:DAYLIGHT
BEGIN:STANDARD
TZOFFSETFROM:-0400
TZOFFSETTO:-0500
TZNAME:EST
DTSTART:19340930T060000
END:STANDARD
BEGIN:DAYLIGHT
TZOFFSETFROM:-0500
TZOFFSETTO:-0400
TZNAME:EDT
DTSTART:19350428T070000
END:DAYLIGHT
BEGIN:STANDARD
TZOFFSETFROM:-0400
TZOFFSETTO:-0500
TZNAME:EST
DTSTART:19350929T060000
END:STANDARD
BEGIN:DAYLIGHT
TZOFFSETFROM:-0500
TZOFFSETTO:-0400
TZNAME:EDT
DTSTART:19360426T070000
END:DAYLIGHT
BEGIN:STANDARD
TZOFFSETFROM:-0400
TZOFFSETTO:-0500
TZNAME:EST
DTSTART:19360927T060000
END:STANDARD
BEGIN:DAYLIGHT
TZOFFSETFROM:-0500
TZOFFSETTO:-0400
TZNAME:EDT
DTSTART:19370425T070000
END:DAYLIGHT
BEGIN:STANDARD
TZOFFSETFROM:-0400
TZOFFSETTO:-0500
TZNAME:EST
DTSTART:19370926T060000
END:STANDARD
BEGIN:DAYLIGHT
TZOFFSETFROM:-0500
TZOFFSETTO:-0400
TZNAME:EDT
DTSTART:19380424T070000
END:DAYLIGHT
BEGIN:STANDARD
TZOFFSETFROM:-0400
TZOFFSETTO:-0500
TZNAME:EST
DTSTART:19380925T060000
END:STANDARD
BEGIN:DAYLIGHT
TZOFFSETFROM:-0500
TZOFFSETTO:-0400
TZNAME:EDT
DTSTART:19390430T070000
END:DAYLIGHT
BEGIN:STANDARD
TZOFFSETFROM:-0400
TZOFFSETTO:-0500
TZNAME:EST
DTSTART:19390924T060000
END:STANDARD
BEGIN:DAYLIGHT
TZOFFSETFROM:-0500
TZOFFSETTO:-0400
TZNAME:EDT
DTSTART:19400428T070000
END:DAYLIGHT
BEGIN:STANDARD
TZOFFSETFROM:-0400
TZOFFSETTO:-0500
TZNAME:EST
DTSTART:19400929T060000
END:STANDARD
BEGIN:DAYLIGHT
TZOFFSETFROM:-0500
TZOFFSETTO:-0400
TZNAME:EDT
DTSTART:19410427T070000
END:DAYLIGHT
BEGIN:STANDARD
TZOFFSETFROM:-0400
TZOFFSETTO:-0500
TZNAME:EST
DTSTART:19410928T060000
END:STANDARD
BEGIN:DAYLIGHT
TZOFFSETFROM:-0500
TZOFFSETTO:-0400
TZNAME:EWT
DTSTART:19420209T070000
END:DAYLIGHT
BEGIN:DAYLIGHT
TZOFFSETFROM:-0400
TZOFFSETTO:-0400
TZNAME:EPT
DTSTART:19450814T230000
END:DAYLIGHT
BEGIN:STANDARD
TZOFFSETFROM:-0400
TZOFFSETTO:-0500
TZNAME:EST
DTSTART:19450930T060000
END:STANDARD
BEGIN:DAYLIGHT
TZOFFSETFROM:-0500
TZOFFSETTO:-0400
TZNAME:EDT
DTSTART:19460428T070000
END:DAYLIGHT
BEGIN:STANDARD
TZOFFSETFROM:-0400
TZOFFSETTO:-0500
TZNAME:EST
DTSTART:19460929T060000
END:STANDARD
BEGIN:DAYLIGHT
TZOFFSETFROM:-0500
TZOFFSETTO:-0400
TZNAME:EDT
DTSTART:19470427T070000
END:DAYLIGHT
BEGIN:STANDARD
TZOFFSETFROM:-0400
TZOFFSETTO:-0500
TZNAME:EST
DTSTART:19470928T060000
END:STANDARD
BEGIN:DAYLIGHT
TZOFFSETFROM:-0500
TZOFFSETTO:-0400
TZNAME:EDT
DTSTART:19480425T070000
END:DAYLIGHT
BEGIN:STANDARD
TZOFFSETFROM:-0400
TZOFFSETTO:-0500
TZNAME:EST
DTSTART:19480926T060000
END:STANDARD
BEGIN:DAYLIGHT
TZOFFSETFROM:-0500
TZOFFSETTO:-0400
TZNAME:EDT
DTSTART:19490424T070000
END:DAYLIGHT
BEGIN:STANDARD
TZOFFSETFROM:-0400
TZOFFSETTO:-0500
TZNAME:EST
DTSTART:19490925T060000
END:STANDARD
BEGIN:DAYLIGHT
TZOFFSETFROM:-0500
TZOFFSETTO:-0400
TZNAME:EDT
DTSTART:19500430T070000
END:DAYLIGHT
BEGIN:STANDARD
TZOFFSETFROM:-0400
TZOFFSETTO:-0500
TZNAME:EST
DTSTART:19500924T060000
END:STANDARD
BEGIN:DAYLIGHT
TZOFFSETFROM:-0500
TZOFFSETTO:-0400
TZNAME:EDT
DTSTART:19510429T070000
END:DAYLIGHT
BEGIN:STANDARD
TZOFFSETFROM:-0400
TZOFFSETTO:-0500
TZNAME:EST
DTSTART:19510930T060000
END:STANDARD
BEGIN:DAYLIGHT
TZOFFSETFROM:-0500
TZOFFSETTO:-0400
TZNAME:EDT
DTSTART:19520427T070000
END:DAYLIGHT
BEGIN:STANDARD
TZOFFSETFROM:-0400
TZOFFSETTO:-0500
TZNAME:EST
DTSTART:19520928T060000
END:STANDARD
BEGIN:DAYLIGHT
TZOFFSETFROM:-0500
TZOFFSETTO:-0400
TZNAME:EDT
DTSTART:19530426T070000
END:DAYLIGHT
BEGIN:STANDARD
TZOFFSETFROM:-0400
TZOFFSETTO:-0500
TZNAME:EST
DTSTART:19530927T060000
END:STANDARD
BEGIN:DAYLIGHT
TZOFFSETFROM:-0500
TZOFFSETTO:-0400
TZNAME:EDT
DTSTART:19540425T070000
END:DAYLIGHT
BEGIN:STANDARD
TZOFFSETFROM:-0400
TZOFFSETTO:-0500
TZNAME:EST
DTSTART:19540926T060000
END:STANDARD
BEGIN:DAYLIGHT
TZOFFSETFROM:-0500
TZOFFSETTO:-0400
TZNAME:EDT
DTSTART:19550424T070000
END:DAYLIGHT
BEGIN:STANDARD
TZOFFSETFROM:-0400
TZOFFSETTO:-0500
TZNAME:EST
DTSTART:19551030T060000
END:STANDARD
BEGIN:DAYLIGHT
TZOFFSETFROM:-0500
TZOFFSETTO:-0400
TZNAME:EDT
DTSTART:19560429T070000
END:DAYLIGHT
BEGIN:STANDARD
TZOFFSETFROM:-0400
TZOFFSETTO:-0500
TZNAME:EST
DTSTART:19561028T060000
END:STANDARD
BEGIN:DAYLIGHT
TZOFFSETFROM:-0500
TZOFFSETTO:-0400
TZNAME:EDT
DTSTART:19570428T070000
END:DAYLIGHT
BEGIN:STANDARD
TZOFFSETFROM:-0400
TZOFFSETTO:-0500
TZNAME:EST
DTSTART:19571027T060000
END:STANDARD
BEGIN:DAYLIGHT
TZOFFSETFROM:-0500
TZOFFSETTO:-0400
TZNAME:EDT
DTSTART:19580427T070000
END:DAYLIGHT
BEGIN:STANDARD
TZOFFSETFROM:-0400
TZOFFSETTO:-0500
TZNAME:EST
DTSTART:19581026T060000
END:STANDARD
BEGIN:DAYLIGHT
TZOFFSETFROM:-0500
TZOFFSETTO:-0400
TZNAME:EDT
DTSTART:19590426T070000
END:DAYLIGHT
BEGIN:STANDARD
TZOFFSETFROM:-0400
TZOFFSETTO:-0500
TZNAME:EST
DTSTART:19591025T060000
END:STANDARD
BEGIN:DAYLIGHT
TZOFFSETFROM:-0500
TZOFFSETTO:-0400
TZNAME:EDT
DTSTART:19600424T070000
END:DAYLIGHT
BEGIN:STANDARD
TZOFFSETFROM:-0400
TZOFFSETTO:-0500
TZNAME:EST
DTSTART:19601030T060000
END:STANDARD
BEGIN:DAYLIGHT
TZOFFSETFROM:-0500
TZOFFSETTO:-0400
TZNAME:EDT
DTSTART:19610430T070000
END:DAYLIGHT
BEGIN:STANDARD
TZOFFSETFROM:-0400
TZOFFSETTO:-0500
TZNAME:EST
DTSTART:19611029T060000
END:STANDARD
BEGIN:DAYLIGHT
TZOFFSETFROM:-0500
TZOFFSETTO:-0400
TZNAME:EDT
DTSTART:19620429T070000
END:DAYLIGHT
BEGIN:STANDARD
TZOFFSETFROM:-0400
TZOFFSETTO:-0500
TZNAME:EST
DTSTART:19621028T060000
END:STANDARD
BEGIN:DAYLIGHT
TZOFFSETFROM:-0500
TZOFFSETTO:-0400
TZNAME:EDT
DTSTART:19630428T070000
END:DAYLIGHT
BEGIN:STANDARD
TZOFFSETFROM:-0400
TZOFFSETTO:-0500
TZNAME:EST
DTSTART:19631027T060000
END:STANDARD
BEGIN:DAYLIGHT
TZOFFSETFROM:-0500
TZOFFSETTO:-0400
TZNAME:EDT
DTSTART:19640426T070000
END:DAYLIGHT
BEGIN:STANDARD
TZOFFSETFROM:-0400
TZOFFSETTO:-0500
TZNAME:EST
DTSTART:19641025T060000
END:STANDARD
BEGIN:DAYLIGHT
TZOFFSETFROM:-0500
TZOFFSETTO:-0400
TZNAME:EDT
DTSTART:19650425T070000
END:DAYLIGHT
BEGIN:STANDARD
TZOFFSETFROM:-0400
TZOFFSETTO:-0500
TZNAME:EST
DTSTART:19651031T060000
END:STANDARD
BEGIN:DAYLIGHT
TZOFFSETFROM:-0500
TZOFFSETTO:-0400
TZNAME:EDT
DTSTART:19660424T070000
END:DAYLIGHT
BEGIN:STANDARD
TZOFFSETFROM:-0400
TZOFFSETTO:-0500
TZNAME:EST
DTSTART:19661030T060000
END:STANDARD
BEGIN:DAYLIGHT
TZOFFSETFROM:-0500
TZOFFSETTO:-0400
TZNAME:EDT
DTSTART:19670430T070000
END:DAYLIGHT
BEGIN:STANDARD
TZOFFSETFROM:-0400
TZOFFSETTO:-0500
TZNAME:EST
DTSTART:19671029T060000
END:STANDARD
BEGIN:DAYLIGHT
TZOFFSETFROM:-0500
TZOFFSETTO:-0400
TZNAME:EDT
DTSTART:19680428T070000
END:DAYLIGHT
BEGIN:STANDARD
TZOFFSETFROM:-0400
TZOFFSETTO:-0500
TZNAME:EST
DTSTART:19681027T060000
END:STANDARD
BEGIN:DAYLIGHT
TZOFFSETFROM:-0500
TZOFFSETTO:-0400
TZNAME:EDT
DTSTART:19690427T070000
END:DAYLIGHT
BEGIN:STANDARD
TZOFFSETFROM:-0400
TZOFFSETTO:-0500
TZNAME:EST
DTSTART:19691026T060000
END:STANDARD
BEGIN:DAYLIGHT
TZOFFSETFROM:-0500
TZOFFSETTO:-0400
TZNAME:EDT
DTSTART:19700426T070000
END:DAYLIGHT
BEGIN:STANDARD
TZOFFSETFROM:-0400
TZOFFSETTO:-0500
TZNAME:EST
DTSTART:19701025T060000
END:STANDARD
END:VTIMEZONE
BEGIN:VEVENT
DTSTART;TZID=America/New_York:20260425T211315
DTEND;TZID=America/New_York:20260425T211315
DTSTAMP:20260425T211315
CREATED:20170331T185906Z
LAST-MODIFIED:20170331T185906Z
UID:5485-0-0@escapemaker.com
SUMMARY:Wing Night Special at The Dinner Plate in Hobart
DESCRIPTION:The Dinner Plate a bar and restaurant on Main Street in Hobart has a 60 cent wings every Tuesday at the bar! They also offer happy hour Tuesday through Friday from 5pm-7pm.
URL:https://escapemaker.com/event/wing-night-special-at-the-dinner-plate-in-hobart/
LOCATION:Hobart\, Hobart Book Village  600-698 Main St.\, Hobart\, NY\, 13788\, United States
CATEGORIES:Restaurant
END:VEVENT
BEGIN:VEVENT
DTSTART;TZID=America/New_York:20260425T211315
DTEND;TZID=America/New_York:20260425T211315
DTSTAMP:20260425T211315
CREATED:20170331T185905Z
LAST-MODIFIED:20170331T185905Z
UID:5479-0-0@escapemaker.com
SUMMARY:Honest Brook Music Festival
DESCRIPTION:Join the Honest Brook Music Festival for their 2017 presentation including a stunning line-up of world-class chamber music performers during July and August. The Festival presents classical music concerts in the rural setting of a beautifully restored dairy barn in upstate New York.
URL:https://escapemaker.com/event/honest-brook-music-festival/
LOCATION:Delhi\, Delhi\, NY\, United States
CATEGORIES:Music Festival
END:VEVENT
BEGIN:VEVENT
DTSTART;TZID=America/New_York:20260425T211315
DTEND;TZID=America/New_York:20260425T211315
DTSTAMP:20260425T211315
CREATED:20170331T185903Z
LAST-MODIFIED:20170331T185903Z
UID:5475-0-0@escapemaker.com
SUMMARY:Delhi Farmers Market
DESCRIPTION:If you’re looking for local produce but don’t have time to visit all of the farm stands around Delhi then stop by the Delhi Farmers Market every Wednesday from 9am to 2pm for locally produced and made goods.
URL:https://escapemaker.com/event/delhi-farmers-market/
LOCATION:Delhi\, Delhi\, NY\, United States
CATEGORIES:Farmers Market
END:VEVENT
BEGIN:VEVENT
DTSTART;TZID=America/New_York:20260425T211315
DTEND;TZID=America/New_York:20260425T211315
DTSTAMP:20260425T211315
CREATED:20170331T185902Z
LAST-MODIFIED:20170331T185902Z
UID:5472-0-0@escapemaker.com
SUMMARY:Downsville Farmers Market
DESCRIPTION:Shop the 2017 Downsville Farmers Markets for organic produce and eggs as well as many other locally made and produced goods. The Downsville Farmer’s market will have products from vendors and local producers such as Reed’s Maple Products\, Shinhopple Farms Honey & Handmade Soaps\, Mimi’s Jams\, Jellies\, Baked Goods\, Lions Club Sabrett Hot Dogs\, local arts & crafts. Located at the Town lot on Route 206\, just down from the historic Downsville Covered Bridge and across from Paige Cemetery.
URL:https://escapemaker.com/event/downsville-farmers-market/
LOCATION:Downsville\, Downsville \, NY\, United States
CATEGORIES:Farmers Market
END:VEVENT
BEGIN:VEVENT
DTSTART;TZID=America/New_York:20260425T211315
DTEND;TZID=America/New_York:20260425T211315
DTSTAMP:20260425T211315
CREATED:20170331T185851Z
LAST-MODIFIED:20170331T185851Z
UID:5443-0-0@escapemaker.com
SUMMARY:Free Family Saturdays
DESCRIPTION:Come enjoy a field trip for families with special hands-on activities for kids.  Take a kid-focused guided tour of the Mill?s historic water-powered sawmill\, gristmill and woodworking shop\, and see how water powers the mill and its century-old machines.\nUp to two adults will be admitted free of charge when accompanied by a child (preschool through high school.) Children aged 13-18 will be admitted free of charge as well. Children 12 and under always receive free admission to the Museum.
URL:https://escapemaker.com/event/free-family-saturdays/
LOCATION:NY
CATEGORIES:Museum
END:VEVENT
BEGIN:VEVENT
DTSTART;TZID=America/New_York:20260425T211315
DTEND;TZID=America/New_York:20260425T211315
DTSTAMP:20260425T211315
CREATED:20170331T182128Z
LAST-MODIFIED:20170331T182128Z
UID:5410-0-0@escapemaker.com
SUMMARY:Annual Madison Bouckville Antique Week
DESCRIPTION:Route 20 in the Madison & Bouckville area. Join us for New York State’s largest outdoor antique event
URL:https://escapemaker.com/event/annual-madison-bouckville-antique-week/
LOCATION:Bouckville\, NY\, Bouckville\, NY\, 13310\, United States
CATEGORIES:Festival
END:VEVENT
BEGIN:VEVENT
DTSTART;TZID=America/New_York:20260425T211315
DTEND;TZID=America/New_York:20260425T211315
DTSTAMP:20260425T211315
CREATED:20170331T182127Z
LAST-MODIFIED:20170331T182127Z
UID:5409-0-0@escapemaker.com
SUMMARY:25th Annual Peterboro Civil War Weekend
DESCRIPTION:Much to do at 25th Annual Peterboro Civil War Weekend!Some folks ask\, “Is there more than the Civil War encampment during the weekend?” The answer is an emphatic “Yes!” Admission to the event covers everything except food\, vendor purchases\, and the Saturday evening program. One admission includes: Access to the civilian and military camps and troops to observe and ask questions. Acess to displays and programs by reenactors\, historical organizations\, Civil War Round Tables\, and authors\, access to children’s period activities\, Admission to three historic sites: the National Abolition Hall of Fame and Museum\, the Gerrit Smith Estate National Historic Landmark buildings and grounds\, and The Peterboro Area Museum. A Guided Walking Tour of the Hamlet of Peterboro. Military skirmish at 2:00 pm Saturday & Sunday. The Annual Peterboro Civil War Weekend is an educational and fund-raising event of the Smithfield Community Association. For more information and updates: 315-280-8828
URL:https://escapemaker.com/event/25th-annual-peterboro-civil-war-weekend/
LOCATION:On the Green\, Peterboro NY 13134\, Peterboro\, NY\, 13134\, United States
CATEGORIES:History
END:VEVENT
BEGIN:VEVENT
DTSTART;TZID=America/New_York:20260425T211315
DTEND;TZID=America/New_York:20260425T211315
DTSTAMP:20260425T211315
CREATED:20170331T182127Z
LAST-MODIFIED:20170331T182127Z
UID:5406-0-0@escapemaker.com
SUMMARY:June Show
DESCRIPTION:This early summer event draws more than 150 quality dealers from all over the northeast. This show is known as a buyer’s market. Many dealers will debut some of their best merchandise for one of the first shows of the summer. Expect to see an even better attendance of dealers in this years show.
URL:https://escapemaker.com/event/june-show/
LOCATION:Bouckville\, NY\, Bouckville\, NY\, 13310\, United States
END:VEVENT
BEGIN:VEVENT
DTSTART;TZID=America/New_York:20260425T211315
DTEND;TZID=America/New_York:20260425T211315
DTSTAMP:20260425T211315
CREATED:20170331T182127Z
LAST-MODIFIED:20170331T182127Z
UID:5407-0-0@escapemaker.com
SUMMARY:Oz-Stravaganza
DESCRIPTION:The festival is held the weekend of the first Saturday in June\, and features “Wizard of Oz” related guests\, entertainment\, vendors\, and FUN! The festival is held in the Village of Chittenango and is the largest and longest running “Wizard of Oz” themed festival in the nation.
URL:https://escapemaker.com/event/oz-stravaganza/
LOCATION:Village of Chittenango\, NY\, Chittenango\, NY\, 13037\, United States
CATEGORIES:Festival
END:VEVENT
BEGIN:VEVENT
DTSTART;TZID=America/New_York:20260425T211315
DTEND;TZID=America/New_York:20260425T211315
DTSTAMP:20260425T211315
CREATED:20170331T182127Z
LAST-MODIFIED:20170331T182127Z
UID:5408-0-0@escapemaker.com
SUMMARY:Induction Weekend
DESCRIPTION:Boxing fans meet boxing legends at this annual celebration! A Championship Weekend!
URL:https://escapemaker.com/event/induction-weekend/
LOCATION:International Boxing Hall of Fame\, Canastota\, NY\, 13032\, United States
CATEGORIES:Festival
END:VEVENT
BEGIN:VEVENT
DTSTART;TZID=America/New_York:20260425T211315
DTEND;TZID=America/New_York:20260425T211315
DTSTAMP:20260425T211315
CREATED:20170331T182123Z
LAST-MODIFIED:20170331T182123Z
UID:5402-0-0@escapemaker.com
SUMMARY:Cabin Fever Chili Cook-Off and Brew Tasting
DESCRIPTION:Cabin Fever Chili-Cookoff and Brew Tasting is an event that allows attendees to taste NY craft beer and vote on the area’s best chili. Voter’s Choice and Judge’s Choice awards will be given to area restaurants with the best chili.  All restaurants and breweries that participate will get free advertising as we promote the event.  The event is a fundraiser for Gloversville Business Improvement District\, a 501(c)(3)\, with all proceeds being used to create microparks in downtown Gloversville.  The date of the event is March 25\, 2017; 1-4 pm.  All attendees will be 21+ and will have IDs checked at the door. The BID will provide 7 oz plastic cups to be used at the event. There is no vendor fee to participate.
URL:https://escapemaker.com/event/cabin-fever-chili-cook-off-and-brew-tasting/
LOCATION:City National Building\, N. Main Street \, Gloversville\, NY\, 12078\, United States
CATEGORIES:Food/Drink
END:VEVENT
BEGIN:VEVENT
DTSTART;TZID=America/New_York:20260425T211315
DTEND;TZID=America/New_York:20260425T211315
DTSTAMP:20260425T211315
CREATED:20170331T182123Z
LAST-MODIFIED:20170331T182123Z
UID:5403-0-0@escapemaker.com
SUMMARY:Bed and Brew with Brewery Ommegang
DESCRIPTION:The Inn at Cooperstown in cooperation with Brewery Ommegang is proud to announce an exclusive\, limited availability two night Bed & Brew for the ultimate beer enthusiast. If you love great beer and great food or just have an intense interest in quality craft beers\, this package is a must attend event. \nThe Inn at Cooperstown is a beautifully restored 1874 historic hotel located in the heart of Cooperstown. Brewery Ommegang is an award winning Belgian styled brewery located in the idyllic countryside just outside the village of Cooperstown. \nPACKAGE INCLUDES:\n2 nights lodging at The Inn at Cooperstown\nTransportation to/from Brewery Ommegang\nVIP guided tour and tasting at Brewery Ommegang with a brewer\nMulti-course\, gourmet beer and food pairing dinner\nOne rare (bottled exclusively for this event)\, jeroboam of Ommegang beer – limit 1 per reservation\nOne Ommegang beer glass per person\nOne Brewery Ommegang sweatshirt or two t-shirts\nSave 5% off the price of dinner at Nicoletta’s\nReceive $5 off one beverage at Council Rock Brewery
URL:https://escapemaker.com/event/bed-and-brew-with-brewery-ommegang/
LOCATION:The Inn at Cooperstown\, 16 Chestnut Street\, Cooperstown\, NY\, 13326\, United States
CATEGORIES:Food/Drink
END:VEVENT
BEGIN:VEVENT
DTSTART;TZID=America/New_York:20260425T211315
DTEND;TZID=America/New_York:20260425T211315
DTSTAMP:20260425T211315
CREATED:20170331T182123Z
LAST-MODIFIED:20170331T182123Z
UID:5404-0-0@escapemaker.com
SUMMARY:TAP New York Craft Beer and Food Festival
DESCRIPTION:New York’s Largest and Longest Running Craft Beer Festival! April 29 & 30\, 2017 \nTap a Mountain of Craft Beers\n100+ Craft Brewers\n350+ NY Craft Beers\nLive Music\nAll You Can Eat! \nVIP Experience\nSaturday Only: $147*\nPrices Increase after 12/31/16\nVIP Experience Includes: \n1 Hour early entrance (12pm) to entire festival and all breweries set up at 1pm*\nGift bag includes TAP NY swag\nExclusive bathrooms\, seating\, food service\, and 4 beers served ONLY in the VIP area from last year’s cup winners\nVIP Parking in closest parking lot to lodge\nLimited number of tickets available\n*Please note\, while many breweries will be set up and ready to serve\, some may be unavailable at time of 1 hour early entrance.\nAdmission when purchased by Dec. 31:\nSaturday: $72*\nSunday: $62\nBoth days: $113*\nDesignated Driver: $30/day* \n*NYS Sales Tax Additional \nBuy now before ticket rates increase. Available now at Guest Services! \nGroup Rates Available for Sunday 4/29
URL:https://escapemaker.com/event/tap-new-york-craft-beer-and-food-festival/
LOCATION:NY
CATEGORIES:Food/Drink
END:VEVENT
BEGIN:VEVENT
DTSTART;TZID=America/New_York:20260425T211315
DTEND;TZID=America/New_York:20260425T211315
DTSTAMP:20260425T211315
CREATED:20170331T182123Z
LAST-MODIFIED:20170331T182123Z
UID:5405-0-0@escapemaker.com
SUMMARY:Regional Farmer's Market
DESCRIPTION:Regional Farmer’s Market
URL:https://escapemaker.com/event/regional-farmers-market/
LOCATION:840 Front St\, Binghamton\, NY 13905\, 840 Front St \, Binghamton\, NY\, 13905\, United States
CATEGORIES:Farmers Market
END:VEVENT
BEGIN:VEVENT
DTSTART;VALUE=DATE:20260425
DTEND;VALUE=DATE:19700102
DTSTAMP:20260425T211315
CREATED:20180307T173829Z
LAST-MODIFIED:20180307T173829Z
UID:8914-0-86399@escapemaker.com
SUMMARY:Visions 4 on the 4th
DESCRIPTION:Visions Federal Credit Union continues to play an active role in the Broome community by introducing 4 on the 4th. The road race aims to encourage wellness in the Town of Union\, and will take place July 4th\, 2018 at 8:40am.\nHaving been a long-time supporter of community wellness events\, including marathons\, bike rides and charitable walks\, Visions was inspired to create an event of their own. With the VisionsÕ Headquarters in close proximity\, it seemed only fitting that the race take place in the Town of Union. \nThe entrance fee is $25\, with a discount of $5 for Visions members. Race participants will receive a race singlet\, and those who register early will also receive a custom race bib with their name. \nFor additional information\, road map and to register\, please visit: RaceMine.com/4-on-the-4th. If you are interested in volunteering\, please contact Brittany Spritzer at 4onthe4th.RaceInfo@gmail.com.
URL:https://escapemaker.com/event/visions-4-on-the-4th/
LOCATION:Visions Headquarters\, 3301 Country Club Road\, Endwell\, NY\, 13760\, United States
END:VEVENT
BEGIN:VEVENT
DTSTART;TZID=America/New_York:02010429T180000
DTEND;TZID=America/New_York:02010429T220000
DTSTAMP:20260425T211315
CREATED:20170331T185858Z
LAST-MODIFIED:20170331T185858Z
UID:5455--55813989600--55813975200@escapemaker.com
SUMMARY:Annual Dinner Dance - Benefits Heart of the Catskills Humane Society at Belleayre Mountain Ski Resort
DESCRIPTION:Save the Date for The Heart of the Catskills Humane Society2017 Spring Dinner Dance and Auction.  \nSaturday\, April 29th\, at Belleayre Mountain Ski Resort Upper Lodge\nwith\nDJ Tito
URL:https://escapemaker.com/event/annual-dinner-dance-benefits-heart-of-the-catskills-humane-society-at-belleayre-mountain-ski-resort/
LOCATION:Catskill Humane Society\, 46610 NY-10\, Delhi\, NY\, 13753\, United States
CATEGORIES:Humane Society
END:VEVENT
END:VCALENDAR