BEGIN:VCALENDAR
VERSION:2.0
PRODID:-//EscapeMaker - ECPv6.2.2.1//NONSGML v1.0//EN
CALSCALE:GREGORIAN
METHOD:PUBLISH
X-WR-CALNAME:EscapeMaker
X-ORIGINAL-URL:https://escapemaker.com
X-WR-CALDESC:Events for EscapeMaker
REFRESH-INTERVAL;VALUE=DURATION:PT1H
X-Robots-Tag:noindex
X-PUBLISHED-TTL:PT1H
BEGIN:VTIMEZONE

END:VTIMEZONE
BEGIN:VEVENT
DTSTART;TZID=America/New_York:20260425T124435
DTEND;TZID=America/New_York:20260425T124435
DTSTAMP:20260425T124435
CREATED:20180717T131415Z
LAST-MODIFIED:20180717T131415Z
UID:9729-0-0@escapemaker.com
SUMMARY:Farming With Kids
DESCRIPTION:A bit of real farm work for children and adults.
URL:https://escapemaker.com/event/farming-with-kids-4/
LOCATION:Apple Pond Farm\, 80 Hahn Rd\, Callicoon Center\, NY\, 12724\, United States
END:VEVENT
BEGIN:VEVENT
DTSTART;TZID=America/New_York:20260425T124435
DTEND;TZID=America/New_York:20260425T124435
DTSTAMP:20260425T124435
CREATED:20180717T131415Z
LAST-MODIFIED:20180717T131415Z
UID:9730-0-0@escapemaker.com
SUMMARY:Farming With Kids
DESCRIPTION:A bit of real farm work for children and adults.
URL:https://escapemaker.com/event/farming-with-kids-5/
LOCATION:Apple Pond Farm\, 80 Hahn Rd\, Callicoon Center\, NY\, 12724\, United States
END:VEVENT
BEGIN:VEVENT
DTSTART;TZID=America/New_York:20260425T124435
DTEND;TZID=America/New_York:20260425T124435
DTSTAMP:20260425T124435
CREATED:20180717T131415Z
LAST-MODIFIED:20180717T131415Z
UID:9731-0-0@escapemaker.com
SUMMARY:Farming With Kids
DESCRIPTION:A bit of real farm work for children and adults.
URL:https://escapemaker.com/event/farming-with-kids-6/
LOCATION:Apple Pond Farm\, 80 Hahn Rd\, Callicoon Center\, NY\, 12724\, United States
END:VEVENT
BEGIN:VEVENT
DTSTART;TZID=America/New_York:20260425T124435
DTEND;TZID=America/New_York:20260425T124435
DTSTAMP:20260425T124435
CREATED:20180717T131410Z
LAST-MODIFIED:20180717T131411Z
UID:9725-0-0@escapemaker.com
SUMMARY:Farming With Kids
DESCRIPTION:A bit of real farm work for children and adults.
URL:https://escapemaker.com/event/farming-with-kids/
LOCATION:Apple Pond Farm\, 80 Hahn Rd\, Callicoon Center\, NY\, 12724\, United States
END:VEVENT
BEGIN:VEVENT
DTSTART;TZID=America/New_York:20260425T124435
DTEND;TZID=America/New_York:20260425T124435
DTSTAMP:20260425T124435
CREATED:20180327T205144Z
LAST-MODIFIED:20180327T205144Z
UID:9146-0-0@escapemaker.com
SUMMARY:Farm to Table Dinner
DESCRIPTION:Join us for a harvest fiesta at Bethel Woods! Executive Chef Armand Vanderstigchel will prepare a multi-course farm to table fiesta to celebrate Cinco De Mayo in the Market Sheds.Barryville Farmers’ Market Opening Day\,Barryville Farmers’ Market\,Join us for the first market of 2018!\n“
URL:https://escapemaker.com/event/farm-to-table-dinner-2/
LOCATION:Bethel Woods Center for the Arts\, 200 Hurd Rd\, Bethel\, NY\, 12720\, United States
END:VEVENT
BEGIN:VEVENT
DTSTART;TZID=America/New_York:20260425T124435
DTEND;TZID=America/New_York:20260425T124435
DTSTAMP:20260425T124435
CREATED:20180327T205144Z
LAST-MODIFIED:20180327T205144Z
UID:9147-0-0@escapemaker.com
SUMMARY:22nd Annual Tractor Parade
DESCRIPTION:Tractors old and new\, large and small\, parade down Main Street at 12 noon. After the parade\, stay for the chicken barbeque and entertainment at the Delaware Community Center.
URL:https://escapemaker.com/event/22nd-annual-tractor-parade/
LOCATION:Callicoon\, Callicoon\, NY\, United States
END:VEVENT
BEGIN:VEVENT
DTSTART;TZID=America/New_York:20260425T124435
DTEND;TZID=America/New_York:20260425T124435
DTSTAMP:20260425T124435
CREATED:20180327T205141Z
LAST-MODIFIED:20180327T205141Z
UID:9143-0-0@escapemaker.com
SUMMARY:Opening Day at Bashakill Vineyards
DESCRIPTION:Enjoy Live Music\, Happy Hour from Noon-2pm ($5 beers\, $6 wine)\, craft taco menu\, and build your own cheese and meat boards!
URL:https://escapemaker.com/event/opening-day-at-bashakill-vineyards/
LOCATION:Bashakill Vineyards\, 1131 S Rd\, Wurtsboro\, NY\, 12790\, United States
END:VEVENT
BEGIN:VEVENT
DTSTART;TZID=America/New_York:20260425T124435
DTEND;TZID=America/New_York:20260425T124435
DTSTAMP:20260425T124435
CREATED:20180327T205141Z
LAST-MODIFIED:20180327T205141Z
UID:9144-0-0@escapemaker.com
SUMMARY:Farm to Table Dinner
DESCRIPTION:Celebrate spring at Bethel Woods with a bountiful farm-to-table dinner presented by our own Executive Chef. Pre-show multi-course dinner will take place in the Market Sheds.Maple Syrup Festival\,Jeffersonville
URL:https://escapemaker.com/event/farm-to-table-dinner/
LOCATION:Bethel Woods Center for the Arts\, 200 Hurd Rd\, Bethel\, NY\, 12720\, United States
END:VEVENT
BEGIN:VEVENT
DTSTART;TZID=America/New_York:20260425T124435
DTEND;TZID=America/New_York:20260425T124435
DTSTAMP:20260425T124435
CREATED:20180327T205141Z
LAST-MODIFIED:20180327T205141Z
UID:9145-0-0@escapemaker.com
SUMMARY:Wild Ramp Festival & Market
DESCRIPTION:Spring is a great time in the Catskills\, where wild ramps\, or as some may call them\, wild leeks\, grow and are ripe for the picking come the end of April and early May. The festival will highlight wild ramps with several local farmers and vendors set up to sell ramps and other local products. There will also be local chefs showing off some of their amazing dishes that feature the delicious wild ramps. Enjoy live music\, vendors to shop from\, craft beer\, food and featured chefs and farmers that will give presentations on finding\, harvesting and enjoying wild ramps. Families can enjoy all the festivities as well as shopping from our areas amazing farmers and crafters.
URL:https://escapemaker.com/event/wild-ramp-festival-market/
LOCATION:Roscoe Beer Co.\, 145 Rockland Rd\, Roscoe\, NY\, 12776\, United States
END:VEVENT
BEGIN:VEVENT
DTSTART;TZID=America/New_York:20260425T124435
DTEND;TZID=America/New_York:20260425T124435
DTSTAMP:20260425T124435
CREATED:20180307T173836Z
LAST-MODIFIED:20180307T173836Z
UID:8927-0-0@escapemaker.com
SUMMARY:5th Annual "Blue Ribbon Run"
DESCRIPTION:***Vendor spaces still available***Join us again this year as we step up and walk for children against child abuse & neglect!\nIndividuals\, families\, businesses and organizations will come together to celebrate children by taking part in the 2018 Blue Ribbon Run Ð 1 Mile Walk \, 5K or 10K Run For Children. This is an event designed to honor our kids and bring awareness to the horrible epidemic of Child Abuse & Awareness during National Child Abuse Awareness Month!\nThe event will be followed by a Family Fun Day with vendors\, entertainment\, food\, concessions\, bounce houses\, childrenÕs activities\, face painting\, caricature drawings\, raffles and lots of fun for the kids and family!\n#NYSWalkforChildren #NYSCF4Kids
URL:https://escapemaker.com/event/5th-annual-blue-ribbon-run/
LOCATION:Shuttleworth Park\, 65 Crescent Ave\, Amsterdam\, NY\, 12010\, United States
END:VEVENT
BEGIN:VEVENT
DTSTART;TZID=America/New_York:20260425T124435
DTEND;TZID=America/New_York:20260425T124435
DTSTAMP:20260425T124435
CREATED:20180307T173834Z
LAST-MODIFIED:20180307T173834Z
UID:8924-0-0@escapemaker.com
SUMMARY:Jack White at Brewery Ommegang
DESCRIPTION:Gather your friends and join us at Brewery Ommegang for Jack White on May 27th\, presented by DSP Shows! Gates will open at 5 PM and the show starts at 7É
URL:https://escapemaker.com/event/jack-white-at-brewery-ommegang/
LOCATION:Brewery Ommegang\, 656 Co Hwy 33\, Cooperstown\, NY\, 13326\, United States
END:VEVENT
BEGIN:VEVENT
DTSTART;TZID=America/New_York:20260425T124435
DTEND;TZID=America/New_York:20260425T124435
DTSTAMP:20260425T124435
CREATED:20180307T173834Z
LAST-MODIFIED:20180307T173834Z
UID:8921-0-0@escapemaker.com
SUMMARY:zoo brew & wine too
DESCRIPTION:Raise a glass for conservation at our 15th annual Zoo Brew & Wine Too! Enjoy the sights and sounds of the zoo while sipping on local and regional beer and wines. This event is limited to guests 21 years of age and over. General admission and designated driver tickets will be available.\nDetails TBA. \nZoo Brew & Wine Too is sponsored in part by Magic 101.7 and 102.5 The Vault.
URL:https://escapemaker.com/event/zoo-brew-wine-too/
LOCATION:Binghamton Zoo at Ross Park\, 60 Morgan Rd\, Binghamton\, NY\, 13903\, United States
END:VEVENT
BEGIN:VEVENT
DTSTART;TZID=America/New_York:20260425T124435
DTEND;TZID=America/New_York:20260425T124435
DTSTAMP:20260425T124435
CREATED:20180307T173834Z
LAST-MODIFIED:20180307T173834Z
UID:8922-0-0@escapemaker.com
SUMMARY:Baseball Hall of Fame Overnight Experience
DESCRIPTION:Be one of the lucky few to spend a night with baseball’s legends! Each year the National Baseball Hall of Fame offers several exclusive overnight experiences.\nChildren ages 7-12 and their parents can sleep amidst the plaques and artifacts of baseball’s greatest players\, and share the experience of a lifetime. \nThe evening includes all-access to the museum’s public areas after hours\, special hands-on programs throughout the museum\, and a late night snack and a baseball movie.
URL:https://escapemaker.com/event/baseball-hall-of-fame-overnight-experience/
LOCATION:Baseball Hall of Fame\, 25 Main St\, Cooperstown\, NY\, 13326\, United States
END:VEVENT
BEGIN:VEVENT
DTSTART;TZID=America/New_York:20260425T124435
DTEND;TZID=America/New_York:20260425T124435
DTSTAMP:20260425T124435
CREATED:20180307T173834Z
LAST-MODIFIED:20180307T173834Z
UID:8923-0-0@escapemaker.com
SUMMARY:Baseball Hall of Fame Care and Conservation Workshop
DESCRIPTION:Participants in the Collection Care and Conservation Workshop will enjoy seeing artifacts and items from our Museum Collection and Library Archive through several unique seminars outlining how the National Baseball Hall of Fame and Museum cares for its collections\, while providing participants with the knowledge to care for their own baseball collection or other cherished items.\nThis one-of-a-kind experience also includes a Library Archive Tour and a private dinner in the iconic Hall of Fame Plaque Gallery. \nA Sustaining Membership ($125 value) is included within this package. \nFor additional information and booking details click HERE.
URL:https://escapemaker.com/event/baseball-hall-of-fame-care-and-conservation-workshop/
LOCATION:Baseball Hall of Fame\, 25 Main St\, Cooperstown\, NY\, 13326\, United States
END:VEVENT
BEGIN:VEVENT
DTSTART;TZID=America/New_York:20260425T124435
DTEND;TZID=America/New_York:20260425T124435
DTSTAMP:20260425T124435
CREATED:20180307T173832Z
LAST-MODIFIED:20180307T173832Z
UID:8916-0-0@escapemaker.com
SUMMARY:Paint the Ice Night 2018
DESCRIPTION:Join the Constance Foundation for paint the ice with messages of hope\, love\, memories and encouragement\, in preparation for Hockey 4 Hope the next night. Ice painting takes place from 5 to 8 p.m. Friday\, March 23\, 2018\, for a $5 donation. For more information\,
URL:https://escapemaker.com/event/paint-the-ice-night-2018/
LOCATION:SUNY Broome Ice Center\, 901 Upper Front St\, Binghamton\, NY\, 13905\, United States
END:VEVENT
BEGIN:VEVENT
DTSTART;TZID=America/New_York:20260425T124435
DTEND;TZID=America/New_York:20260425T124435
DTSTAMP:20260425T124435
CREATED:20180307T173832Z
LAST-MODIFIED:20180307T173832Z
UID:8917-0-0@escapemaker.com
SUMMARY:Tri-Ciries Opera Annual Preview Gala
DESCRIPTION:This extraordinary event features a delectable gourmet tapas menu with each course themed around the productions in our coming season. YouÕll hear selections from each opera\, have the chance to bid on extravagant and luxurious silent auction items\, and revel in an evening of opera-themed fun.\nComplimentary red\, white\, and sparkling wines will be selected by the chef to perfectly pair with your meal; or enjoy the top-shelf cash bar. \nGlimpse the spectacular new artwork and listen as our fabulous Resident Artists sing selections from the coming operas! A surprise celebrity guest will also be in attendance! \nThis event is proudly sponsored by Northeastern Striping Corp. and Levene\, Gouldin & Thompson.
URL:https://escapemaker.com/event/tri-ciries-opera-annual-preview-gala/
LOCATION:Traditions Hotel and Spa\, 4101 Watson Blvd\, Johnson City\, NY\, 13790\, United States
END:VEVENT
BEGIN:VEVENT
DTSTART;TZID=America/New_York:20260425T124435
DTEND;TZID=America/New_York:20260425T124435
DTSTAMP:20260425T124435
CREATED:20180307T173832Z
LAST-MODIFIED:20180307T173832Z
UID:8918-0-0@escapemaker.com
SUMMARY:Exhibition: This Place
DESCRIPTION:This Place explores Israel and the West Bank as both place and metaphor through the work of FrŽdŽric Brenner\, Wendy Ewald\, Fazal Sheikh\, and Stephen Shore at the Wellin.
URL:https://escapemaker.com/event/exhibition-this-place/
LOCATION:NY
END:VEVENT
BEGIN:VEVENT
DTSTART;TZID=America/New_York:20260425T124435
DTEND;TZID=America/New_York:20260425T124435
DTSTAMP:20260425T124435
CREATED:20180307T173832Z
LAST-MODIFIED:20180307T173832Z
UID:8919-0-0@escapemaker.com
SUMMARY:Flea Market
DESCRIPTION:Stop by our parking lot and browse local vendors. More details coming soon!\nVENDOR REGISTRATION: Details TBA
URL:https://escapemaker.com/event/flea-market/
LOCATION:Binghamton Zoo at Ross Park\, 60 Morgan Rd\, Binghamton\, NY\, 13903\, United States
END:VEVENT
BEGIN:VEVENT
DTSTART;TZID=America/New_York:20260425T124435
DTEND;TZID=America/New_York:20260425T124435
DTSTAMP:20260425T124435
CREATED:20180307T173828Z
LAST-MODIFIED:20180307T173828Z
UID:8913-0-0@escapemaker.com
SUMMARY:Beers and Beasts 8K
DESCRIPTION:Water Street Brewing Co. and the Triple Cities Runners Club are excited to bring you the 3rd Annual Beers and Beasts 8K!!\nJoin us Sunday\, June 3rd\, 2018 as runners hit the streets of downtown Binghamton on a fast and furious 8K race course. In addition to the 8K there will be the amazingly entertaining Hound Dog Dash (runners with their dogs) and the Ankle-Biters Kids Fun Run. After the race\, join us on the streets of Binghamton for post-race festivities including a beer tent and our furry friends! \nProceeds from the dayÕs festivities will benefit local animal rescues\,
URL:https://escapemaker.com/event/beers-and-beasts-8k/
LOCATION:NY
END:VEVENT
BEGIN:VEVENT
DTSTART;TZID=America/New_York:20260425T124435
DTEND;TZID=America/New_York:20260425T124435
DTSTAMP:20260425T124435
CREATED:20170331T185906Z
LAST-MODIFIED:20170331T185906Z
UID:5483-0-0@escapemaker.com
SUMMARY:Festival of Women Writers
DESCRIPTION:The Festival of Women Writers is a weekend for all. This festival celebrates and explores the work of women writers through readings and workshops. The festival is set in and around the picturesque Northern Catskill book village of Hobart. Join us in the beautiful Caskills town of Hobart on September 8\, 9 &10\, 2017.
URL:https://escapemaker.com/event/festival-of-women-writers/
LOCATION:Hobart\, Hobart Book Village  600-698 Main St.\, Hobart\, NY\, 13788\, United States
CATEGORIES:Writer's Festival
END:VEVENT
BEGIN:VEVENT
DTSTART;TZID=America/New_York:20260425T124435
DTEND;TZID=America/New_York:20260425T124435
DTSTAMP:20260425T124435
CREATED:20170331T185906Z
LAST-MODIFIED:20170331T185906Z
UID:5485-0-0@escapemaker.com
SUMMARY:Wing Night Special at The Dinner Plate in Hobart
DESCRIPTION:The Dinner Plate a bar and restaurant on Main Street in Hobart has a 60 cent wings every Tuesday at the bar! They also offer happy hour Tuesday through Friday from 5pm-7pm.
URL:https://escapemaker.com/event/wing-night-special-at-the-dinner-plate-in-hobart/
LOCATION:Hobart\, Hobart Book Village  600-698 Main St.\, Hobart\, NY\, 13788\, United States
CATEGORIES:Restaurant
END:VEVENT
BEGIN:VEVENT
DTSTART;TZID=America/New_York:20260425T124435
DTEND;TZID=America/New_York:20260425T124435
DTSTAMP:20260425T124435
CREATED:20170331T185905Z
LAST-MODIFIED:20170331T185905Z
UID:5479-0-0@escapemaker.com
SUMMARY:Honest Brook Music Festival
DESCRIPTION:Join the Honest Brook Music Festival for their 2017 presentation including a stunning line-up of world-class chamber music performers during July and August. The Festival presents classical music concerts in the rural setting of a beautifully restored dairy barn in upstate New York.
URL:https://escapemaker.com/event/honest-brook-music-festival/
LOCATION:Delhi\, Delhi\, NY\, United States
CATEGORIES:Music Festival
END:VEVENT
BEGIN:VEVENT
DTSTART;TZID=America/New_York:20260425T124435
DTEND;TZID=America/New_York:20260425T124435
DTSTAMP:20260425T124435
CREATED:20170331T185903Z
LAST-MODIFIED:20170331T185903Z
UID:5475-0-0@escapemaker.com
SUMMARY:Delhi Farmers Market
DESCRIPTION:If you’re looking for local produce but don’t have time to visit all of the farm stands around Delhi then stop by the Delhi Farmers Market every Wednesday from 9am to 2pm for locally produced and made goods.
URL:https://escapemaker.com/event/delhi-farmers-market/
LOCATION:Delhi\, Delhi\, NY\, United States
CATEGORIES:Farmers Market
END:VEVENT
BEGIN:VEVENT
DTSTART;TZID=America/New_York:20260425T124435
DTEND;TZID=America/New_York:20260425T124435
DTSTAMP:20260425T124435
CREATED:20170331T185902Z
LAST-MODIFIED:20170331T185902Z
UID:5472-0-0@escapemaker.com
SUMMARY:Downsville Farmers Market
DESCRIPTION:Shop the 2017 Downsville Farmers Markets for organic produce and eggs as well as many other locally made and produced goods. The Downsville Farmer’s market will have products from vendors and local producers such as Reed’s Maple Products\, Shinhopple Farms Honey & Handmade Soaps\, Mimi’s Jams\, Jellies\, Baked Goods\, Lions Club Sabrett Hot Dogs\, local arts & crafts. Located at the Town lot on Route 206\, just down from the historic Downsville Covered Bridge and across from Paige Cemetery.
URL:https://escapemaker.com/event/downsville-farmers-market/
LOCATION:Downsville\, Downsville \, NY\, United States
CATEGORIES:Farmers Market
END:VEVENT
BEGIN:VEVENT
DTSTART;TZID=America/New_York:20260425T124435
DTEND;TZID=America/New_York:20260425T124435
DTSTAMP:20260425T124435
CREATED:20170331T185851Z
LAST-MODIFIED:20170331T185851Z
UID:5443-0-0@escapemaker.com
SUMMARY:Free Family Saturdays
DESCRIPTION:Come enjoy a field trip for families with special hands-on activities for kids.  Take a kid-focused guided tour of the Mill?s historic water-powered sawmill\, gristmill and woodworking shop\, and see how water powers the mill and its century-old machines.\nUp to two adults will be admitted free of charge when accompanied by a child (preschool through high school.) Children aged 13-18 will be admitted free of charge as well. Children 12 and under always receive free admission to the Museum.
URL:https://escapemaker.com/event/free-family-saturdays/
LOCATION:NY
CATEGORIES:Museum
END:VEVENT
BEGIN:VEVENT
DTSTART;TZID=America/New_York:20260425T124435
DTEND;TZID=America/New_York:20260425T124435
DTSTAMP:20260425T124435
CREATED:20170331T182128Z
LAST-MODIFIED:20170331T182128Z
UID:5410-0-0@escapemaker.com
SUMMARY:Annual Madison Bouckville Antique Week
DESCRIPTION:Route 20 in the Madison & Bouckville area. Join us for New York State’s largest outdoor antique event
URL:https://escapemaker.com/event/annual-madison-bouckville-antique-week/
LOCATION:Bouckville\, NY\, Bouckville\, NY\, 13310\, United States
CATEGORIES:Festival
END:VEVENT
BEGIN:VEVENT
DTSTART;TZID=America/New_York:20260425T124435
DTEND;TZID=America/New_York:20260425T124435
DTSTAMP:20260425T124435
CREATED:20170331T182127Z
LAST-MODIFIED:20170331T182127Z
UID:5406-0-0@escapemaker.com
SUMMARY:June Show
DESCRIPTION:This early summer event draws more than 150 quality dealers from all over the northeast. This show is known as a buyer’s market. Many dealers will debut some of their best merchandise for one of the first shows of the summer. Expect to see an even better attendance of dealers in this years show.
URL:https://escapemaker.com/event/june-show/
LOCATION:Bouckville\, NY\, Bouckville\, NY\, 13310\, United States
END:VEVENT
BEGIN:VEVENT
DTSTART;TZID=America/New_York:20260425T124435
DTEND;TZID=America/New_York:20260425T124435
DTSTAMP:20260425T124435
CREATED:20170331T182127Z
LAST-MODIFIED:20170331T182127Z
UID:5407-0-0@escapemaker.com
SUMMARY:Oz-Stravaganza
DESCRIPTION:The festival is held the weekend of the first Saturday in June\, and features “Wizard of Oz” related guests\, entertainment\, vendors\, and FUN! The festival is held in the Village of Chittenango and is the largest and longest running “Wizard of Oz” themed festival in the nation.
URL:https://escapemaker.com/event/oz-stravaganza/
LOCATION:Village of Chittenango\, NY\, Chittenango\, NY\, 13037\, United States
CATEGORIES:Festival
END:VEVENT
BEGIN:VEVENT
DTSTART;TZID=America/New_York:20260425T124435
DTEND;TZID=America/New_York:20260425T124435
DTSTAMP:20260425T124435
CREATED:20170331T182127Z
LAST-MODIFIED:20170331T182127Z
UID:5408-0-0@escapemaker.com
SUMMARY:Induction Weekend
DESCRIPTION:Boxing fans meet boxing legends at this annual celebration! A Championship Weekend!
URL:https://escapemaker.com/event/induction-weekend/
LOCATION:International Boxing Hall of Fame\, Canastota\, NY\, 13032\, United States
CATEGORIES:Festival
END:VEVENT
BEGIN:VEVENT
DTSTART;TZID=America/New_York:20260425T124435
DTEND;TZID=America/New_York:20260425T124435
DTSTAMP:20260425T124435
CREATED:20170331T182127Z
LAST-MODIFIED:20170331T182127Z
UID:5409-0-0@escapemaker.com
SUMMARY:25th Annual Peterboro Civil War Weekend
DESCRIPTION:Much to do at 25th Annual Peterboro Civil War Weekend!Some folks ask\, “Is there more than the Civil War encampment during the weekend?” The answer is an emphatic “Yes!” Admission to the event covers everything except food\, vendor purchases\, and the Saturday evening program. One admission includes: Access to the civilian and military camps and troops to observe and ask questions. Acess to displays and programs by reenactors\, historical organizations\, Civil War Round Tables\, and authors\, access to children’s period activities\, Admission to three historic sites: the National Abolition Hall of Fame and Museum\, the Gerrit Smith Estate National Historic Landmark buildings and grounds\, and The Peterboro Area Museum. A Guided Walking Tour of the Hamlet of Peterboro. Military skirmish at 2:00 pm Saturday & Sunday. The Annual Peterboro Civil War Weekend is an educational and fund-raising event of the Smithfield Community Association. For more information and updates: 315-280-8828
URL:https://escapemaker.com/event/25th-annual-peterboro-civil-war-weekend/
LOCATION:On the Green\, Peterboro NY 13134\, Peterboro\, NY\, 13134\, United States
CATEGORIES:History
END:VEVENT
END:VCALENDAR