BEGIN:VCALENDAR
VERSION:2.0
PRODID:-//EscapeMaker - ECPv6.2.2.1//NONSGML v1.0//EN
CALSCALE:GREGORIAN
METHOD:PUBLISH
X-WR-CALNAME:EscapeMaker
X-ORIGINAL-URL:https://escapemaker.com
X-WR-CALDESC:Events for EscapeMaker
REFRESH-INTERVAL;VALUE=DURATION:PT1H
X-Robots-Tag:noindex
X-PUBLISHED-TTL:PT1H
BEGIN:VTIMEZONE

END:VTIMEZONE
BEGIN:VEVENT
DTSTART;TZID=America/New_York:20260420T023413
DTEND;TZID=America/New_York:20260420T023413
DTSTAMP:20260420T023413
CREATED:20180717T131439Z
LAST-MODIFIED:20180717T131439Z
UID:9798-0-0@escapemaker.com
SUMMARY:Barryville Farmers' Market
DESCRIPTION:The Barryville Farmers’ Market is an open air market featuring local products\, Saturdays.
URL:https://escapemaker.com/event/barryville-farmers-market-12/
LOCATION:Barryville\, Barryville\, NY\, 12719\, United States
END:VEVENT
BEGIN:VEVENT
DTSTART;TZID=America/New_York:20260420T023413
DTEND;TZID=America/New_York:20260420T023413
DTSTAMP:20260420T023413
CREATED:20180717T131439Z
LAST-MODIFIED:20180717T131439Z
UID:9799-0-0@escapemaker.com
SUMMARY:Barryville Farmers' Market
DESCRIPTION:The Barryville Farmers’ Market is an open air market featuring local products\, Saturdays.
URL:https://escapemaker.com/event/barryville-farmers-market-13/
LOCATION:Barryville\, Barryville\, NY\, 12719\, United States
END:VEVENT
BEGIN:VEVENT
DTSTART;TZID=America/New_York:20260420T023413
DTEND;TZID=America/New_York:20260420T023413
DTSTAMP:20260420T023413
CREATED:20180717T131439Z
LAST-MODIFIED:20180717T131439Z
UID:9800-0-0@escapemaker.com
SUMMARY:Barryville Farmers' Market
DESCRIPTION:The Barryville Farmers’ Market is an open air market featuring local products\, Saturdays.
URL:https://escapemaker.com/event/barryville-farmers-market-14/
LOCATION:Barryville\, Barryville\, NY\, 12719\, United States
END:VEVENT
BEGIN:VEVENT
DTSTART;TZID=America/New_York:20260420T023413
DTEND;TZID=America/New_York:20260420T023413
DTSTAMP:20260420T023413
CREATED:20180717T131438Z
LAST-MODIFIED:20180717T131438Z
UID:9794-0-0@escapemaker.com
SUMMARY:Barryville Farmers' Market
DESCRIPTION:The Barryville Farmers’ Market is an open air market featuring local products\, Saturdays.
URL:https://escapemaker.com/event/barryville-farmers-market-8/
LOCATION:Barryville\, Barryville\, NY\, 12719\, United States
END:VEVENT
BEGIN:VEVENT
DTSTART;TZID=America/New_York:20260420T023413
DTEND;TZID=America/New_York:20260420T023413
DTSTAMP:20260420T023413
CREATED:20180717T131438Z
LAST-MODIFIED:20180717T131438Z
UID:9795-0-0@escapemaker.com
SUMMARY:Barryville Farmers' Market
DESCRIPTION:The Barryville Farmers’ Market is an open air market featuring local products\, Saturdays.
URL:https://escapemaker.com/event/barryville-farmers-market-9/
LOCATION:Barryville\, Barryville\, NY\, 12719\, United States
END:VEVENT
BEGIN:VEVENT
DTSTART;TZID=America/New_York:20260420T023413
DTEND;TZID=America/New_York:20260420T023413
DTSTAMP:20260420T023413
CREATED:20180717T131438Z
LAST-MODIFIED:20180717T131438Z
UID:9796-0-0@escapemaker.com
SUMMARY:Barryville Farmers' Market
DESCRIPTION:The Barryville Farmers’ Market is an open air market featuring local products\, Saturdays.
URL:https://escapemaker.com/event/barryville-farmers-market-10/
LOCATION:Barryville\, Barryville\, NY\, 12719\, United States
END:VEVENT
BEGIN:VEVENT
DTSTART;TZID=America/New_York:20260420T023413
DTEND;TZID=America/New_York:20260420T023413
DTSTAMP:20260420T023413
CREATED:20180717T131437Z
LAST-MODIFIED:20180717T131437Z
UID:9793-0-0@escapemaker.com
SUMMARY:Barryville Farmers' Market
DESCRIPTION:The Barryville Farmers’ Market is an open air market featuring local products\, Saturdays.
URL:https://escapemaker.com/event/barryville-farmers-market-7/
LOCATION:Barryville\, Barryville\, NY\, 12719\, United States
END:VEVENT
BEGIN:VEVENT
DTSTART;TZID=America/New_York:20260420T023413
DTEND;TZID=America/New_York:20260420T023413
DTSTAMP:20260420T023413
CREATED:20180717T131437Z
LAST-MODIFIED:20180717T131437Z
UID:9792-0-0@escapemaker.com
SUMMARY:Barryville Farmers' Market
DESCRIPTION:The Barryville Farmers’ Market is an open air market featuring local products\, Saturdays.
URL:https://escapemaker.com/event/barryville-farmers-market-6/
LOCATION:Barryville\, Barryville\, NY\, 12719\, United States
END:VEVENT
BEGIN:VEVENT
DTSTART;TZID=America/New_York:20260420T023413
DTEND;TZID=America/New_York:20260420T023413
DTSTAMP:20260420T023413
CREATED:20180717T131436Z
LAST-MODIFIED:20180717T131436Z
UID:9787-0-0@escapemaker.com
SUMMARY:Barryville Farmers' Market
DESCRIPTION:The Barryville Farmers’ Market is an open air market featuring local products\, Saturdays.
URL:https://escapemaker.com/event/barryville-farmers-market/
LOCATION:Barryville\, Barryville\, NY\, 12719\, United States
END:VEVENT
BEGIN:VEVENT
DTSTART;TZID=America/New_York:20260420T023413
DTEND;TZID=America/New_York:20260420T023413
DTSTAMP:20260420T023413
CREATED:20180717T131436Z
LAST-MODIFIED:20180717T131436Z
UID:9788-0-0@escapemaker.com
SUMMARY:Barryville Farmers' Market
DESCRIPTION:The Barryville Farmers’ Market is an open air market featuring local products\, Saturdays.
URL:https://escapemaker.com/event/barryville-farmers-market-2/
LOCATION:Barryville\, Barryville\, NY\, 12719\, United States
END:VEVENT
BEGIN:VEVENT
DTSTART;TZID=America/New_York:20260420T023413
DTEND;TZID=America/New_York:20260420T023413
DTSTAMP:20260420T023413
CREATED:20180717T131436Z
LAST-MODIFIED:20180717T131436Z
UID:9789-0-0@escapemaker.com
SUMMARY:Barryville Farmers' Market
DESCRIPTION:The Barryville Farmers’ Market is an open air market featuring local products\, Saturdays.
URL:https://escapemaker.com/event/barryville-farmers-market-3/
LOCATION:Barryville\, Barryville\, NY\, 12719\, United States
END:VEVENT
BEGIN:VEVENT
DTSTART;TZID=America/New_York:20260420T023413
DTEND;TZID=America/New_York:20260420T023413
DTSTAMP:20260420T023413
CREATED:20180717T131436Z
LAST-MODIFIED:20180717T131436Z
UID:9790-0-0@escapemaker.com
SUMMARY:Barryville Farmers' Market
DESCRIPTION:The Barryville Farmers’ Market is an open air market featuring local products\, Saturdays.
URL:https://escapemaker.com/event/barryville-farmers-market-4/
LOCATION:Barryville\, Barryville\, NY\, 12719\, United States
END:VEVENT
BEGIN:VEVENT
DTSTART;TZID=America/New_York:20260420T023413
DTEND;TZID=America/New_York:20260420T023413
DTSTAMP:20260420T023413
CREATED:20180717T131436Z
LAST-MODIFIED:20180717T131436Z
UID:9791-0-0@escapemaker.com
SUMMARY:Barryville Farmers' Market
DESCRIPTION:The Barryville Farmers’ Market is an open air market featuring local products\, Saturdays.
URL:https://escapemaker.com/event/barryville-farmers-market-5/
LOCATION:Barryville\, Barryville\, NY\, 12719\, United States
END:VEVENT
BEGIN:VEVENT
DTSTART;TZID=America/New_York:20260420T023413
DTEND;TZID=America/New_York:20260420T023413
DTSTAMP:20260420T023413
CREATED:20180717T131434Z
LAST-MODIFIED:20180717T131434Z
UID:9785-0-0@escapemaker.com
SUMMARY:Rock Hill Farmers' Market
DESCRIPTION:Come support local\, sustainable and organic agriculture at the Rock Hill Farmers’ Market\, Saturdays.
URL:https://escapemaker.com/event/rock-hill-farmers-market-11/
LOCATION:Rock Hill\, Rock Hill\, NY\, 12775\, United States
END:VEVENT
BEGIN:VEVENT
DTSTART;TZID=America/New_York:20260420T023413
DTEND;TZID=America/New_York:20260420T023413
DTSTAMP:20260420T023413
CREATED:20180717T131434Z
LAST-MODIFIED:20180717T131434Z
UID:9786-0-0@escapemaker.com
SUMMARY:Rock Hill Farmers' Market
DESCRIPTION:Come support local\, sustainable and organic agriculture at the Rock Hill Farmers’ Market\, Saturdays.
URL:https://escapemaker.com/event/rock-hill-farmers-market-12/
LOCATION:Rock Hill\, Rock Hill\, NY\, 12775\, United States
END:VEVENT
BEGIN:VEVENT
DTSTART;TZID=America/New_York:20260420T023413
DTEND;TZID=America/New_York:20260420T023413
DTSTAMP:20260420T023413
CREATED:20180717T131434Z
LAST-MODIFIED:20180717T131434Z
UID:9782-0-0@escapemaker.com
SUMMARY:Rock Hill Farmers' Market
DESCRIPTION:Come support local\, sustainable and organic agriculture at the Rock Hill Farmers’ Market\, Saturdays.
URL:https://escapemaker.com/event/rock-hill-farmers-market-8/
LOCATION:Rock Hill\, Rock Hill\, NY\, 12775\, United States
END:VEVENT
BEGIN:VEVENT
DTSTART;TZID=America/New_York:20260420T023413
DTEND;TZID=America/New_York:20260420T023413
DTSTAMP:20260420T023413
CREATED:20180717T131434Z
LAST-MODIFIED:20180717T131434Z
UID:9783-0-0@escapemaker.com
SUMMARY:Rock Hill Farmers' Market
DESCRIPTION:Come support local\, sustainable and organic agriculture at the Rock Hill Farmers’ Market\, Saturdays.
URL:https://escapemaker.com/event/rock-hill-farmers-market-9/
LOCATION:Rock Hill\, Rock Hill\, NY\, 12775\, United States
END:VEVENT
BEGIN:VEVENT
DTSTART;TZID=America/New_York:20260420T023413
DTEND;TZID=America/New_York:20260420T023413
DTSTAMP:20260420T023413
CREATED:20180717T131434Z
LAST-MODIFIED:20180717T131434Z
UID:9784-0-0@escapemaker.com
SUMMARY:Rock Hill Farmers' Market
DESCRIPTION:Come support local\, sustainable and organic agriculture at the Rock Hill Farmers’ Market\, Saturdays.
URL:https://escapemaker.com/event/rock-hill-farmers-market-10/
LOCATION:Rock Hill\, Rock Hill\, NY\, 12775\, United States
END:VEVENT
BEGIN:VEVENT
DTSTART;TZID=America/New_York:20260420T023413
DTEND;TZID=America/New_York:20260420T023413
DTSTAMP:20260420T023413
CREATED:20180717T131433Z
LAST-MODIFIED:20180717T131433Z
UID:9781-0-0@escapemaker.com
SUMMARY:Rock Hill Farmers' Market
DESCRIPTION:Come support local\, sustainable and organic agriculture at the Rock Hill Farmers’ Market\, Saturdays.
URL:https://escapemaker.com/event/rock-hill-farmers-market-7/
LOCATION:Rock Hill\, Rock Hill\, NY\, 12775\, United States
END:VEVENT
BEGIN:VEVENT
DTSTART;TZID=America/New_York:20260420T023413
DTEND;TZID=America/New_York:20260420T023413
DTSTAMP:20260420T023413
CREATED:20180717T131432Z
LAST-MODIFIED:20180717T131432Z
UID:9777-0-0@escapemaker.com
SUMMARY:Rock Hill Farmers' Market
DESCRIPTION:Come support local\, sustainable and organic agriculture at the Rock Hill Farmers’ Market\, Saturdays.
URL:https://escapemaker.com/event/rock-hill-farmers-market-3/
LOCATION:Rock Hill\, Rock Hill\, NY\, 12775\, United States
END:VEVENT
BEGIN:VEVENT
DTSTART;TZID=America/New_York:20260420T023413
DTEND;TZID=America/New_York:20260420T023413
DTSTAMP:20260420T023413
CREATED:20180717T131432Z
LAST-MODIFIED:20180717T131432Z
UID:9778-0-0@escapemaker.com
SUMMARY:Rock Hill Farmers' Market
DESCRIPTION:Come support local\, sustainable and organic agriculture at the Rock Hill Farmers’ Market\, Saturdays.
URL:https://escapemaker.com/event/rock-hill-farmers-market-4/
LOCATION:Rock Hill\, Rock Hill\, NY\, 12775\, United States
END:VEVENT
BEGIN:VEVENT
DTSTART;TZID=America/New_York:20260420T023413
DTEND;TZID=America/New_York:20260420T023413
DTSTAMP:20260420T023413
CREATED:20180717T131432Z
LAST-MODIFIED:20180717T131432Z
UID:9779-0-0@escapemaker.com
SUMMARY:Rock Hill Farmers' Market
DESCRIPTION:Come support local\, sustainable and organic agriculture at the Rock Hill Farmers’ Market\, Saturdays.
URL:https://escapemaker.com/event/rock-hill-farmers-market-5/
LOCATION:Rock Hill\, Rock Hill\, NY\, 12775\, United States
END:VEVENT
BEGIN:VEVENT
DTSTART;TZID=America/New_York:20260420T023413
DTEND;TZID=America/New_York:20260420T023413
DTSTAMP:20260420T023413
CREATED:20180717T131432Z
LAST-MODIFIED:20180717T131432Z
UID:9780-0-0@escapemaker.com
SUMMARY:Rock Hill Farmers' Market
DESCRIPTION:Come support local\, sustainable and organic agriculture at the Rock Hill Farmers’ Market\, Saturdays.
URL:https://escapemaker.com/event/rock-hill-farmers-market-6/
LOCATION:Rock Hill\, Rock Hill\, NY\, 12775\, United States
END:VEVENT
BEGIN:VEVENT
DTSTART;TZID=America/New_York:20260420T023413
DTEND;TZID=America/New_York:20260420T023413
DTSTAMP:20260420T023413
CREATED:20180717T131431Z
LAST-MODIFIED:20180717T131431Z
UID:9775-0-0@escapemaker.com
SUMMARY:Rock Hill Farmers' Market
DESCRIPTION:Come support local\, sustainable and organic agriculture at the Rock Hill Farmers’ Market\, Saturdays.
URL:https://escapemaker.com/event/rock-hill-farmers-market/
LOCATION:Rock Hill\, Rock Hill\, NY\, 12775\, United States
END:VEVENT
BEGIN:VEVENT
DTSTART;TZID=America/New_York:20260420T023413
DTEND;TZID=America/New_York:20260420T023413
DTSTAMP:20260420T023413
CREATED:20180717T131431Z
LAST-MODIFIED:20180717T131431Z
UID:9776-0-0@escapemaker.com
SUMMARY:Rock Hill Farmers' Market
DESCRIPTION:Come support local\, sustainable and organic agriculture at the Rock Hill Farmers’ Market\, Saturdays.
URL:https://escapemaker.com/event/rock-hill-farmers-market-2/
LOCATION:Rock Hill\, Rock Hill\, NY\, 12775\, United States
END:VEVENT
BEGIN:VEVENT
DTSTART;TZID=America/New_York:20260420T023413
DTEND;TZID=America/New_York:20260420T023413
DTSTAMP:20260420T023413
CREATED:20180717T131430Z
LAST-MODIFIED:20180717T131430Z
UID:9772-0-0@escapemaker.com
SUMMARY:Roscoe Farmers' Market
DESCRIPTION:Make it a Sunday funday while you support local farmers and crafters.
URL:https://escapemaker.com/event/roscoe-farmers-market-13/
LOCATION:Roscoe\, Roscoe\, NY\, 12776\, United States
END:VEVENT
BEGIN:VEVENT
DTSTART;TZID=America/New_York:20260420T023413
DTEND;TZID=America/New_York:20260420T023413
DTSTAMP:20260420T023413
CREATED:20180717T131429Z
LAST-MODIFIED:20180717T131429Z
UID:9769-0-0@escapemaker.com
SUMMARY:Roscoe Farmers' Market
DESCRIPTION:Make it a Sunday funday while you support local farmers and crafters.
URL:https://escapemaker.com/event/roscoe-farmers-market-10/
LOCATION:Roscoe\, Roscoe\, NY\, 12776\, United States
END:VEVENT
BEGIN:VEVENT
DTSTART;TZID=America/New_York:20260420T023413
DTEND;TZID=America/New_York:20260420T023413
DTSTAMP:20260420T023413
CREATED:20180717T131429Z
LAST-MODIFIED:20180717T131429Z
UID:9770-0-0@escapemaker.com
SUMMARY:Roscoe Farmers' Market
DESCRIPTION:Make it a Sunday funday while you support local farmers and crafters.
URL:https://escapemaker.com/event/roscoe-farmers-market-11/
LOCATION:Roscoe\, Roscoe\, NY\, 12776\, United States
END:VEVENT
BEGIN:VEVENT
DTSTART;TZID=America/New_York:20260420T023413
DTEND;TZID=America/New_York:20260420T023413
DTSTAMP:20260420T023413
CREATED:20180717T131429Z
LAST-MODIFIED:20180717T131429Z
UID:9771-0-0@escapemaker.com
SUMMARY:Roscoe Farmers' Market
DESCRIPTION:Make it a Sunday funday while you support local farmers and crafters.
URL:https://escapemaker.com/event/roscoe-farmers-market-12/
LOCATION:Roscoe\, Roscoe\, NY\, 12776\, United States
END:VEVENT
BEGIN:VEVENT
DTSTART;TZID=America/New_York:20260420T023413
DTEND;TZID=America/New_York:20260420T023413
DTSTAMP:20260420T023413
CREATED:20180717T131429Z
LAST-MODIFIED:20180717T131429Z
UID:9767-0-0@escapemaker.com
SUMMARY:Roscoe Farmers' Market
DESCRIPTION:Make it a Sunday funday while you support local farmers and crafters.
URL:https://escapemaker.com/event/roscoe-farmers-market-8/
LOCATION:Roscoe\, Roscoe\, NY\, 12776\, United States
END:VEVENT
END:VCALENDAR