BEGIN:VCALENDAR
VERSION:2.0
PRODID:-//EscapeMaker - ECPv6.2.2.1//NONSGML v1.0//EN
CALSCALE:GREGORIAN
METHOD:PUBLISH
X-WR-CALNAME:EscapeMaker
X-ORIGINAL-URL:https://escapemaker.com
X-WR-CALDESC:Events for EscapeMaker
REFRESH-INTERVAL;VALUE=DURATION:PT1H
X-Robots-Tag:noindex
X-PUBLISHED-TTL:PT1H
BEGIN:VTIMEZONE

END:VTIMEZONE
BEGIN:VEVENT
DTSTART;TZID=America/New_York:20260419T230317
DTEND;TZID=America/New_York:20260419T230317
DTSTAMP:20260419T230317
CREATED:20180717T131453Z
LAST-MODIFIED:20180717T131453Z
UID:9838-0-0@escapemaker.com
SUMMARY:Bethel Woods Center for the Arts
DESCRIPTION:Gather and Give Photography Hike – all levels welcome.
URL:https://escapemaker.com/event/bethel-woods-center-for-the-arts/
LOCATION:Bethel\, Bethel\, NY\, 12720\, United States
END:VEVENT
BEGIN:VEVENT
DTSTART;TZID=America/New_York:20260419T230317
DTEND;TZID=America/New_York:20260419T230317
DTSTAMP:20260419T230317
CREATED:20180717T131453Z
LAST-MODIFIED:20180717T131453Z
UID:9839-0-0@escapemaker.com
SUMMARY:Grahamsville Fair Grounds
DESCRIPTION:Grahamsville Little World Fair
URL:https://escapemaker.com/event/grahamsville-fair-grounds/
LOCATION:Grahamsville\, Grahamsville\, NY\, 12740\, United States
END:VEVENT
BEGIN:VEVENT
DTSTART;TZID=America/New_York:20260419T230317
DTEND;TZID=America/New_York:20260419T230317
DTSTAMP:20260419T230317
CREATED:20180717T131453Z
LAST-MODIFIED:20180717T131453Z
UID:9840-0-0@escapemaker.com
SUMMARY:Bethel Woods Center for the Arts
DESCRIPTION:Slow Food Italian Style Cooking Demo
URL:https://escapemaker.com/event/bethel-woods-center-for-the-arts-2/
LOCATION:Bethel\, Bethel\, NY\, 12720\, United States
END:VEVENT
BEGIN:VEVENT
DTSTART;TZID=America/New_York:20260419T230317
DTEND;TZID=America/New_York:20260419T230317
DTSTAMP:20260419T230317
CREATED:20180717T131452Z
LAST-MODIFIED:20180717T131452Z
UID:9833-0-0@escapemaker.com
SUMMARY:CCE Sullivan & Ag Food Systems
DESCRIPTION:Cooking with Laura Silverman.
URL:https://escapemaker.com/event/cce-sullivan-ag-food-systems/
LOCATION:CCE Ferndale\, 64 Ferndale Loomis Rd #1\, Liberty\, NY\, 12754\, United States
END:VEVENT
BEGIN:VEVENT
DTSTART;TZID=America/New_York:20260419T230317
DTEND;TZID=America/New_York:20260419T230317
DTSTAMP:20260419T230317
CREATED:20180717T131452Z
LAST-MODIFIED:20180717T131452Z
UID:9834-0-0@escapemaker.com
SUMMARY:Callicoon Country Fair
DESCRIPTION:A fun filled day of food\, games\, music and shopping. 
URL:https://escapemaker.com/event/callicoon-country-fair/
LOCATION:Callicoon\, Callicoon\, NY\, 12723\, United States
END:VEVENT
BEGIN:VEVENT
DTSTART;TZID=America/New_York:20260419T230317
DTEND;TZID=America/New_York:20260419T230317
DTSTAMP:20260419T230317
CREATED:20180717T131452Z
LAST-MODIFIED:20180717T131452Z
UID:9835-0-0@escapemaker.com
SUMMARY:Roscoe's 4th Annual Summer Fest
DESCRIPTION:Make memories: vendors\, performance by the Hillbilly Parade\, and more.
URL:https://escapemaker.com/event/roscoes-4th-annual-summer-fest/
LOCATION:Roscoe\, Roscoe\, NY\, 12776\, United States
END:VEVENT
BEGIN:VEVENT
DTSTART;TZID=America/New_York:20260419T230317
DTEND;TZID=America/New_York:20260419T230317
DTSTAMP:20260419T230317
CREATED:20180717T131452Z
LAST-MODIFIED:20180717T131452Z
UID:9836-0-0@escapemaker.com
SUMMARY:Time and the Valley's Museum
DESCRIPTION:1930’s Catskill Farm Hoedown.
URL:https://escapemaker.com/event/time-and-the-valleys-museum/
LOCATION:Grahamsville\, Grahamsville\, NY\, 12740\, United States
END:VEVENT
BEGIN:VEVENT
DTSTART;TZID=America/New_York:20260419T230317
DTEND;TZID=America/New_York:20260419T230317
DTSTAMP:20260419T230317
CREATED:20180717T131451Z
LAST-MODIFIED:20180717T131451Z
UID:9832-0-0@escapemaker.com
SUMMARY:Riverfest
DESCRIPTION:Art\, music\, and ecology are the focal point at DVAA’s 28th annual street fair.
URL:https://escapemaker.com/event/riverfest/
LOCATION:Narrowsburg\, Narrowsburg\, NY\, 12764\, United States
END:VEVENT
BEGIN:VEVENT
DTSTART;TZID=America/New_York:20260419T230317
DTEND;TZID=America/New_York:20260419T230317
DTSTAMP:20260419T230317
CREATED:20180717T131450Z
LAST-MODIFIED:20180717T131450Z
UID:9827-0-0@escapemaker.com
SUMMARY:Henning's Local
DESCRIPTION:Fresh pasta making with two wild foraged sauces.
URL:https://escapemaker.com/event/hennings-local-3/
LOCATION:Cochecton\, Cochecton\, NY\, 12726\, United States
END:VEVENT
BEGIN:VEVENT
DTSTART;TZID=America/New_York:20260419T230317
DTEND;TZID=America/New_York:20260419T230317
DTSTAMP:20260419T230317
CREATED:20180717T131450Z
LAST-MODIFIED:20180717T131450Z
UID:9828-0-0@escapemaker.com
SUMMARY:Henning's Local
DESCRIPTION:Wild foods pizza making with Cheryl Perry and Laura Silverman.
URL:https://escapemaker.com/event/hennings-local-4/
LOCATION:Cochecton\, Cochecton\, NY\, 12726\, United States
END:VEVENT
BEGIN:VEVENT
DTSTART;TZID=America/New_York:20260419T230317
DTEND;TZID=America/New_York:20260419T230317
DTSTAMP:20260419T230317
CREATED:20180717T131450Z
LAST-MODIFIED:20180717T131450Z
UID:9829-0-0@escapemaker.com
SUMMARY:Henning's Local
DESCRIPTION:Lacto fermented veggies.
URL:https://escapemaker.com/event/hennings-local-5/
LOCATION:Cochecton\, Cochecton\, NY\, 12726\, United States
END:VEVENT
BEGIN:VEVENT
DTSTART;TZID=America/New_York:20260419T230317
DTEND;TZID=America/New_York:20260419T230317
DTSTAMP:20260419T230317
CREATED:20180717T131450Z
LAST-MODIFIED:20180717T131450Z
UID:9830-0-0@escapemaker.com
SUMMARY:Henning's Local
DESCRIPTION:Science of pie.
URL:https://escapemaker.com/event/hennings-local-6/
LOCATION:Cochecton\, Cochecton\, NY\, 12726\, United States
END:VEVENT
BEGIN:VEVENT
DTSTART;TZID=America/New_York:20260419T230317
DTEND;TZID=America/New_York:20260419T230317
DTSTAMP:20260419T230317
CREATED:20180717T131450Z
LAST-MODIFIED:20180717T131450Z
UID:9831-0-0@escapemaker.com
SUMMARY:Roscoe Beer Company
DESCRIPTION:An evening in the garden\, farm to table dinner.
URL:https://escapemaker.com/event/roscoe-beer-company/
LOCATION:Roscoe\, Roscoe\, NY\, 12776\, United States
END:VEVENT
BEGIN:VEVENT
DTSTART;TZID=America/New_York:20260419T230317
DTEND;TZID=America/New_York:20260419T230317
DTSTAMP:20260419T230317
CREATED:20180717T131448Z
LAST-MODIFIED:20180717T131448Z
UID:9825-0-0@escapemaker.com
SUMMARY:Henning's Local
DESCRIPTION:Knife skills.
URL:https://escapemaker.com/event/hennings-local/
LOCATION:Cochecton\, Cochecton\, NY\, 12726\, United States
END:VEVENT
BEGIN:VEVENT
DTSTART;TZID=America/New_York:20260419T230317
DTEND;TZID=America/New_York:20260419T230317
DTSTAMP:20260419T230317
CREATED:20180717T131448Z
LAST-MODIFIED:20180717T131448Z
UID:9826-0-0@escapemaker.com
SUMMARY:Henning's Local
DESCRIPTION:Beyond kombucha.
URL:https://escapemaker.com/event/hennings-local-2/
LOCATION:Cochecton\, Cochecton\, NY\, 12726\, United States
END:VEVENT
BEGIN:VEVENT
DTSTART;TZID=America/New_York:20260419T230317
DTEND;TZID=America/New_York:20260419T230317
DTSTAMP:20260419T230317
CREATED:20180717T131448Z
LAST-MODIFIED:20180717T131448Z
UID:9822-0-0@escapemaker.com
SUMMARY:Barryville Farmers' Market Event
DESCRIPTION:Farm to fork cooking demo with Laura Silverman of The Outside Institute.
URL:https://escapemaker.com/event/barryville-farmers-market-event-2/
LOCATION:Barryville\, Barryville\, NY\, 12719\, United States
END:VEVENT
BEGIN:VEVENT
DTSTART;TZID=America/New_York:20260419T230317
DTEND;TZID=America/New_York:20260419T230317
DTSTAMP:20260419T230317
CREATED:20180717T131448Z
LAST-MODIFIED:20180717T131448Z
UID:9823-0-0@escapemaker.com
SUMMARY:Barryville Farmers' Market Event
DESCRIPTION:Seed Saving with the Dirt Diva (Adrianne Picciano).
URL:https://escapemaker.com/event/barryville-farmers-market-event-3/
LOCATION:Barryville\, Barryville\, NY\, 12719\, United States
END:VEVENT
BEGIN:VEVENT
DTSTART;TZID=America/New_York:20260419T230317
DTEND;TZID=America/New_York:20260419T230317
DTSTAMP:20260419T230317
CREATED:20180717T131448Z
LAST-MODIFIED:20180717T131448Z
UID:9824-0-0@escapemaker.com
SUMMARY:Barryville Farmers' Market Event
DESCRIPTION:Farm to fork cooking demo with Laura Silverman of The Outside Institute.
URL:https://escapemaker.com/event/barryville-farmers-market-event-4/
LOCATION:Barryville\, Barryville\, NY\, 12719\, United States
END:VEVENT
BEGIN:VEVENT
DTSTART;TZID=America/New_York:20260419T230317
DTEND;TZID=America/New_York:20260419T230317
DTSTAMP:20260419T230317
CREATED:20180717T131446Z
LAST-MODIFIED:20180717T131446Z
UID:9817-0-0@escapemaker.com
SUMMARY:Callicoon Farmers' Market
DESCRIPTION:Educating the community about eating seasonally and locally while fostering a sense of community\, Sundays.
URL:https://escapemaker.com/event/callicoon-farmers-market-15/
LOCATION:Callicoon\, Callicoon\, NY\, 12723\, United States
END:VEVENT
BEGIN:VEVENT
DTSTART;TZID=America/New_York:20260419T230317
DTEND;TZID=America/New_York:20260419T230317
DTSTAMP:20260419T230317
CREATED:20180717T131446Z
LAST-MODIFIED:20180717T131446Z
UID:9818-0-0@escapemaker.com
SUMMARY:Callicoon Farmers' Market
DESCRIPTION:Educating the community about eating seasonally and locally while fostering a sense of community\, Sundays.
URL:https://escapemaker.com/event/callicoon-farmers-market-16/
LOCATION:Callicoon\, Callicoon\, NY\, 12723\, United States
END:VEVENT
BEGIN:VEVENT
DTSTART;TZID=America/New_York:20260419T230317
DTEND;TZID=America/New_York:20260419T230317
DTSTAMP:20260419T230317
CREATED:20180717T131446Z
LAST-MODIFIED:20180717T131446Z
UID:9819-0-0@escapemaker.com
SUMMARY:Callicoon Farmers' Market
DESCRIPTION:Educating the community about eating seasonally and locally while fostering a sense of community\, Sundays.
URL:https://escapemaker.com/event/callicoon-farmers-market-17/
LOCATION:Callicoon\, Callicoon\, NY\, 12723\, United States
END:VEVENT
BEGIN:VEVENT
DTSTART;TZID=America/New_York:20260419T230317
DTEND;TZID=America/New_York:20260419T230317
DTSTAMP:20260419T230317
CREATED:20180717T131446Z
LAST-MODIFIED:20180717T131446Z
UID:9820-0-0@escapemaker.com
SUMMARY:Callicoon Farmers' Market
DESCRIPTION:Educating the community about eating seasonally and locally while fostering a sense of community\, Sundays.
URL:https://escapemaker.com/event/callicoon-farmers-market-18/
LOCATION:Callicoon\, Callicoon\, NY\, 12723\, United States
END:VEVENT
BEGIN:VEVENT
DTSTART;TZID=America/New_York:20260419T230317
DTEND;TZID=America/New_York:20260419T230317
DTSTAMP:20260419T230317
CREATED:20180717T131446Z
LAST-MODIFIED:20180717T131446Z
UID:9821-0-0@escapemaker.com
SUMMARY:Barryville Farmers' Market Event
DESCRIPTION:Flower arranging with Tannis and Willow Wisp Organic Farm.
URL:https://escapemaker.com/event/barryville-farmers-market-event/
LOCATION:Barryville\, Barryville\, NY\, 12719\, United States
END:VEVENT
BEGIN:VEVENT
DTSTART;TZID=America/New_York:20260419T230317
DTEND;TZID=America/New_York:20260419T230317
DTSTAMP:20260419T230317
CREATED:20180717T131445Z
LAST-MODIFIED:20180717T131445Z
UID:9814-0-0@escapemaker.com
SUMMARY:Callicoon Farmers' Market
DESCRIPTION:Educating the community about eating seasonally and locally while fostering a sense of community\, Sundays.
URL:https://escapemaker.com/event/callicoon-farmers-market-12/
LOCATION:Callicoon\, Callicoon\, NY\, 12723\, United States
END:VEVENT
BEGIN:VEVENT
DTSTART;TZID=America/New_York:20260419T230317
DTEND;TZID=America/New_York:20260419T230317
DTSTAMP:20260419T230317
CREATED:20180717T131445Z
LAST-MODIFIED:20180717T131445Z
UID:9815-0-0@escapemaker.com
SUMMARY:Callicoon Farmers' Market
DESCRIPTION:Educating the community about eating seasonally and locally while fostering a sense of community\, Sundays.
URL:https://escapemaker.com/event/callicoon-farmers-market-13/
LOCATION:Callicoon\, Callicoon\, NY\, 12723\, United States
END:VEVENT
BEGIN:VEVENT
DTSTART;TZID=America/New_York:20260419T230317
DTEND;TZID=America/New_York:20260419T230317
DTSTAMP:20260419T230317
CREATED:20180717T131445Z
LAST-MODIFIED:20180717T131445Z
UID:9816-0-0@escapemaker.com
SUMMARY:Callicoon Farmers' Market
DESCRIPTION:Educating the community about eating seasonally and locally while fostering a sense of community\, Sundays.
URL:https://escapemaker.com/event/callicoon-farmers-market-14/
LOCATION:Callicoon\, Callicoon\, NY\, 12723\, United States
END:VEVENT
BEGIN:VEVENT
DTSTART;TZID=America/New_York:20260419T230317
DTEND;TZID=America/New_York:20260419T230317
DTSTAMP:20260419T230317
CREATED:20180717T131444Z
LAST-MODIFIED:20180717T131444Z
UID:9812-0-0@escapemaker.com
SUMMARY:Callicoon Farmers' Market
DESCRIPTION:Educating the community about eating seasonally and locally while fostering a sense of community\, Sundays.
URL:https://escapemaker.com/event/callicoon-farmers-market-10/
LOCATION:Callicoon\, Callicoon\, NY\, 12723\, United States
END:VEVENT
BEGIN:VEVENT
DTSTART;TZID=America/New_York:20260419T230317
DTEND;TZID=America/New_York:20260419T230317
DTSTAMP:20260419T230317
CREATED:20180717T131444Z
LAST-MODIFIED:20180717T131444Z
UID:9813-0-0@escapemaker.com
SUMMARY:Callicoon Farmers' Market
DESCRIPTION:Educating the community about eating seasonally and locally while fostering a sense of community\, Sundays.
URL:https://escapemaker.com/event/callicoon-farmers-market-11/
LOCATION:Callicoon\, Callicoon\, NY\, 12723\, United States
END:VEVENT
BEGIN:VEVENT
DTSTART;TZID=America/New_York:20260419T230317
DTEND;TZID=America/New_York:20260419T230317
DTSTAMP:20260419T230317
CREATED:20180717T131443Z
LAST-MODIFIED:20180717T131443Z
UID:9809-0-0@escapemaker.com
SUMMARY:Callicoon Farmers' Market
DESCRIPTION:Educating the community about eating seasonally and locally while fostering a sense of community\, Sundays.
URL:https://escapemaker.com/event/callicoon-farmers-market-7/
LOCATION:Callicoon\, Callicoon\, NY\, 12723\, United States
END:VEVENT
BEGIN:VEVENT
DTSTART;TZID=America/New_York:20260419T230317
DTEND;TZID=America/New_York:20260419T230317
DTSTAMP:20260419T230317
CREATED:20180717T131443Z
LAST-MODIFIED:20180717T131443Z
UID:9810-0-0@escapemaker.com
SUMMARY:Callicoon Farmers' Market
DESCRIPTION:Educating the community about eating seasonally and locally while fostering a sense of community\, Sundays.
URL:https://escapemaker.com/event/callicoon-farmers-market-8/
LOCATION:Callicoon\, Callicoon\, NY\, 12723\, United States
END:VEVENT
END:VCALENDAR