BEGIN:VCALENDAR
VERSION:2.0
PRODID:-//EscapeMaker - ECPv6.2.2.1//NONSGML v1.0//EN
CALSCALE:GREGORIAN
METHOD:PUBLISH
X-WR-CALNAME:EscapeMaker
X-ORIGINAL-URL:https://escapemaker.com
X-WR-CALDESC:Events for EscapeMaker
REFRESH-INTERVAL;VALUE=DURATION:PT1H
X-Robots-Tag:noindex
X-PUBLISHED-TTL:PT1H
BEGIN:VTIMEZONE

END:VTIMEZONE
BEGIN:VEVENT
DTSTART;VALUE=DATE:20160916
DTEND;VALUE=DATE:20161003
DTSTAMP:20260419T213007
CREATED:20160809T225158Z
LAST-MODIFIED:20160809T225158Z
UID:1951-1473984000-1475452799@escapemaker.com
SUMMARY:The Big E
DESCRIPTION:The Big E\, also know as the Eastern States Exposition\, is billed as New England’s Great State fair. It is the largest agricultural event on the eastern seaboard and the fifth largest fair in the nation.
URL:https://escapemaker.com/event/the-big-e/
LOCATION:The Big E\, 875 Memorial Ave\, West Springfield\, MA\, 01089\, United States
CATEGORIES:Fair
ATTACH;FMTTYPE=image/jpeg:https://escapemaker.com/wp-content/uploads/2016/08/the-big-e.jpg
END:VEVENT
BEGIN:VEVENT
DTSTART;VALUE=DATE:20160825
DTEND;VALUE=DATE:20160906
DTSTAMP:20260419T213007
CREATED:20160809T225158Z
LAST-MODIFIED:20160809T225158Z
UID:1946-1472083200-1473119999@escapemaker.com
SUMMARY:The Great NY State Fair
DESCRIPTION:The Great New York State Fair is a 12-day showcase of agriculture\, entertainment\, education and technology.
URL:https://escapemaker.com/event/the-great-ny-state-fair/
LOCATION:The Great NY State Fair\, 581 State Fair Blvd\, Syracuse\, NY\, 13209\, United States
CATEGORIES:Fair
ATTACH;FMTTYPE=image/jpeg:https://escapemaker.com/wp-content/uploads/2016/08/Great-New-York-State-Fair.jpg
END:VEVENT
BEGIN:VEVENT
DTSTART;VALUE=DATE:20160823
DTEND;VALUE=DATE:20160829
DTSTAMP:20260419T213007
CREATED:20160809T225158Z
LAST-MODIFIED:20160809T225158Z
UID:1945-1471910400-1472428799@escapemaker.com
SUMMARY:Dutchess County Fair
DESCRIPTION:For 6 days each August\, the bucolic fairgrounds on Route 9 in Rhinebeck plays host to nearly half a million patrons. The second largest county fair in New York Stateis the showplace for agriculture in Dutchess County.
URL:https://escapemaker.com/event/dutchess-county-fair/
LOCATION:Dutchess County Fair\, 6636 Route 9\, Rhinebeck\, NY\, 12572\, United States
CATEGORIES:Fair
ATTACH;FMTTYPE=image/jpeg:https://escapemaker.com/wp-content/uploads/2016/08/Dutchess-County-Fair-e1477339897836.jpg
END:VEVENT
BEGIN:VEVENT
DTSTART;VALUE=DATE:20160819
DTEND;VALUE=DATE:20160822
DTSTAMP:20260419T213007
CREATED:20160809T225158Z
LAST-MODIFIED:20160809T225158Z
UID:1947-1471564800-1471823999@escapemaker.com
SUMMARY:Little World's Fair
DESCRIPTION:The longest running independent fair in New York\, the Grahamsville Little World’s Fair offers four days of old fashioned fun!
URL:https://escapemaker.com/event/little-worlds-fair/
LOCATION:Little World’s Fair\, Route 55\, Grahamsville\, NY\, 12740\, United States
CATEGORIES:Fair
ATTACH;FMTTYPE=image/jpeg:https://escapemaker.com/wp-content/uploads/2016/08/Little-Worlds-Fair.jpg
END:VEVENT
BEGIN:VEVENT
DTSTART;VALUE=DATE:20160816
DTEND;VALUE=DATE:20160822
DTSTAMP:20260419T213007
CREATED:20160809T225158Z
LAST-MODIFIED:20160809T225158Z
UID:1944-1471305600-1471823999@escapemaker.com
SUMMARY:Steuben County Fair
DESCRIPTION:The Steuben County Fair is the oldest continuously-running fair in the United States and includes food\, entertainment and fun!
URL:https://escapemaker.com/event/steuben-county-fair/
LOCATION:Steuben County Fair\, 15 E. Washington St\, Bath\,  NY \, 14810\, United States
CATEGORIES:Fair
ATTACH;FMTTYPE=image/jpeg:https://escapemaker.com/wp-content/uploads/2016/08/Steuben-County-Fair.jpg
END:VEVENT
BEGIN:VEVENT
DTSTART;VALUE=DATE:20160816
DTEND;VALUE=DATE:20160821
DTSTAMP:20260419T213007
CREATED:20160809T225158Z
LAST-MODIFIED:20160809T225158Z
UID:1943-1471305600-1471737599@escapemaker.com
SUMMARY:The Vermont State Fair
DESCRIPTION:The Vermont State Fair\, the official fair of Vermont\, is located at the Vermont State Fairgrounds. The fair contains a midway\, entertainment\, a restaurant\, food stands\, a petting zoo\, and agricultural exhibits.
URL:https://escapemaker.com/event/the-vermont-state-fair/
LOCATION:The Vermont State Fair\, 175 South Main St.\, Rutland\, VT\, 05701\, United States
CATEGORIES:Fair
ATTACH;FMTTYPE=image/jpeg:https://escapemaker.com/wp-content/uploads/2016/08/Vermont-State-Fair.jpg
END:VEVENT
BEGIN:VEVENT
DTSTART;TZID=America/New_York:20160814T110000
DTEND;TZID=America/New_York:20160814T170000
DTSTAMP:20260419T213007
CREATED:20160719T163618Z
LAST-MODIFIED:20160719T164427Z
UID:1810-1471172400-1471194000@escapemaker.com
SUMMARY:EscapeMaker.com's Craft Beverage Tasting Showcase
DESCRIPTION:Presented by Amtrak and New York Apples! Visit our EscapeMaker.com pop up shop dedicated to agritourism\, local farm and orchard getaways\, running: June 17th through August 28th within the historic Fulton Stall Market at the South Street Seaport! Visitors can pick up FREE info on green travel\, farm escapes\, apple picking and local getaway packages to inspire couples\, friends and families to start planning their vacations. \nIn addition to the pop up shop hours\, EscapeMaker will host three FREE tasting showcases inside the market and spilling outside onto Front street\, which are scheduled for: \nSunday\, June 19th: Berry Jam \nSunday\, July 24th: Local Craft Beverages \nSunday\, August 14th: Local Craft Beverages \nIn conjunction with the regular FSM farmer’s market around the corner on Little Water St.\, all events run from 11am-5pm and will feature food and beverage samples from local producers\, live music\, presentations by local farmers\, winemakers and brewmasters and information on local vacations\, where to go apple picking and visit a farm! \nAgritourism destinations represented include Corning and the Southern Finger Lakes\, Long Island Convention & Visitors Bureau Inc\, Westchester County Tourism\, NY\, Sullivan Catskills\, and Dutchess Tourism\, Inc.\, in New York and Vermont Tourism. Presented by Amtrak. Thanks to media sponsorEdible Manhattan. \nStop by to check out our producers: Broken Bow Brewery Yonkers Brewing Co. Brooklyn Cider House Hillrock Estate Distillery Hudson Valley Food Tours New Paltz Brewing Company MYSTO MEAD
URL:https://escapemaker.com/event/escapemaker-coms-craft-beverage-tasting-showcase-2/
LOCATION:Fulton Stall Market\, 91 South Street\, New York\, NY\, 10038\, United States
CATEGORIES:Food/Wine
ATTACH;FMTTYPE=image/jpeg:https://escapemaker.com/wp-content/uploads/2016/07/11224035_10153603946023716_7099914890614597462_o.jpg
END:VEVENT
BEGIN:VEVENT
DTSTART;TZID=America/New_York:20160808T090000
DTEND;TZID=America/New_York:20160808T170000
DTSTAMP:20260419T213007
CREATED:20160817T175509Z
LAST-MODIFIED:20160817T175509Z
UID:1956-1470646800-1470675600@escapemaker.com
SUMMARY:Beacon Incline Railway: Past\, Present & Future Exhibit
DESCRIPTION:The exhibition explores the initiative to bring back the Mt. Beacon Incline through the lenses of a historic narrative and an eye towards the future.
URL:https://escapemaker.com/event/beacon-incline-railway-past-present-future-exhibit/
LOCATION:Beacon Institute for Rivers and Estuaries\, 199 Dennings Ave\, Beacon\, NY\, 12508\, United States
END:VEVENT
BEGIN:VEVENT
DTSTART;TZID=America/New_York:20160806T130000
DTEND;TZID=America/New_York:20160806T210000
DTSTAMP:20260419T213007
CREATED:20160719T205439Z
LAST-MODIFIED:20160719T205439Z
UID:1814-1470488400-1470517200@escapemaker.com
SUMMARY:Cook Out NYC: Ciderfeast!
DESCRIPTION:EscapeMaker.com joins Ciderfeast\, a sophisticated outdoor cider event featuring the best regional\, national and European ciders from more than a dozen cider makers pouring 30+ ciders as well as perfectly paired outdoor grillables and live entertainment.‎ Taking place on the Manhattan waterfront at Solar One (Stuyvesant Cove Park – enter at East 23rd Street at the East River)\, Ciderfeast is your a mid-summer solution for those who cannot wait until the fall for NYC’s annual Cider Week. Features of Ciderfeast include: \n\n10+ different regional cider makers pouring 30+ of their best ciders [full list TBA]\nMeat grilling stations\nVegetarian grilling stations (veggie dogs/burgers and other innovative vegetarian grilled dishes)\nLive music and other entertainment TBA\n3-hour General Admission or 4-hour VIP (early entry) available\n\nCidermakers expected to be in attendance (subject to change): \n\nHudson Valley Farmhouse Cider – NY\nBig Apple Cider – NY\nShacksbury – VT\nOriginal Sin – NY\nAustin Eastciders – TX\nE. Z. Orchards – OR\nAspall – UK\nCraigie’s Irish cider – UK\nCiders of Spain – Spain\nWineSellers LTD\, Importers – Spain/France/UK\n\nFor press coverage from last year’s event\, click here. \nChildren under 12 are always free with paying adult.
URL:https://escapemaker.com/event/cook-out-nyc-ciderfeast/
LOCATION:SolarOne\, 24-20 Fdr Drive Service Road East\, New York\, NY\, 10010\, United States
CATEGORIES:Food/Wine
ATTACH;FMTTYPE=image/jpeg:https://escapemaker.com/wp-content/uploads/2016/07/https-cdn.evbuc_.com-images-19893928-17483047619-1-original.jpg
END:VEVENT
BEGIN:VEVENT
DTSTART;VALUE=DATE:20160805
DTEND;VALUE=DATE:20160814
DTSTAMP:20260419T213007
CREATED:20160809T225158Z
LAST-MODIFIED:20160809T225158Z
UID:1942-1470355200-1471132799@escapemaker.com
SUMMARY:New Jersey State Fair
DESCRIPTION:The NJ Fairgrounds is most well-known for the annual NJ State Fair. The Fair takes advantage of the beautiful spacious grounds\, outdoor amenities\, and an indoor venue that provides a sophisticased location for events. The Fair has grown into a pillar of the community\, providing entertainment\, education\, and opportunity to visitors from all around.
URL:https://escapemaker.com/event/new-jersey-state-fair/
LOCATION:New Jersey State Fair\, 37 Plains Rd\, Augusta\, NJ\, 07822\, United States
CATEGORIES:Fair
ATTACH;FMTTYPE=image/jpeg:https://escapemaker.com/wp-content/uploads/2016/08/NJ-State-Fair.jpg
END:VEVENT
BEGIN:VEVENT
DTSTART;VALUE=DATE:20160802
DTEND;VALUE=DATE:20160808
DTSTAMP:20260419T213007
CREATED:20160809T225157Z
LAST-MODIFIED:20160809T225157Z
UID:1941-1470096000-1470614399@escapemaker.com
SUMMARY:Ulster County Fair
DESCRIPTION:The Ulster County Fair is a fun\, family event in Ulster County since 1886. Admission is $15 per person and children under 36″ are free. This includes rides\, entertainment and parking for the day.
URL:https://escapemaker.com/event/ulster-county-fair/
LOCATION:Ulster County Fair\, 249 Libertyville Rd\, New Paltz\, NY\, 12561\, United States
CATEGORIES:Fair
ATTACH;FMTTYPE=image/jpeg:https://escapemaker.com/wp-content/uploads/2016/08/Ulster-County-Fair.jpg
END:VEVENT
BEGIN:VEVENT
DTSTART;TZID=America/New_York:20160729T100000
DTEND;TZID=America/New_York:20160729T150000
DTSTAMP:20260419T213007
CREATED:20160719T170906Z
LAST-MODIFIED:20160719T170906Z
UID:1811-1469786400-1469804400@escapemaker.com
SUMMARY:Greenmarket County Fair
DESCRIPTION:Celebrate summer and local farms with Greenmarket! Come for samples of Greenmarket-style fair food\, games\, a photo booth\, and more. Plus\, catch up with us (EscapeMaker) for information on when to visit county fairs in our region\, how to get there\, and where to stay.
URL:https://escapemaker.com/event/greenmarket-county-fair/
LOCATION:Union Square Greenmarket\, 1 Union Sq\, East 17th St.\, New York\, NY\, 10003\, United States
CATEGORIES:Food/Wine
ATTACH;FMTTYPE=image/jpeg:https://escapemaker.com/wp-content/uploads/2016/07/nys-fair.jpg
END:VEVENT
BEGIN:VEVENT
DTSTART;TZID=America/New_York:20160724T110000
DTEND;TZID=America/New_York:20160724T170000
DTSTAMP:20260419T213007
CREATED:20160719T162650Z
LAST-MODIFIED:20160719T162849Z
UID:1803-1469358000-1469379600@escapemaker.com
SUMMARY:EscapeMaker.com's Craft Beverage Tasting Showcase
DESCRIPTION:Presented by Amtrak and New York Apples! Visit our EscapeMaker.com pop up shop dedicated to agritourism\, local farm and orchard getaways\, running: June 17th through August 28th within the historic Fulton Stall Market at the South Street Seaport! Visitors can pick up FREE info on green travel\, farm escapes\, apple picking and local getaway packages to inspire couples\, friends and families to start planning their vacations. \nIn addition to the pop up shop hours\, EscapeMaker will host three FREE tasting showcases inside the market and spilling outside onto Front street\, which are scheduled for: \nSunday\, June 19th: Berry Jam \nSunday\, July 24th: Local Craft Beverages \nSunday\, August 14th: Local Craft Beverages \nIn conjunction with the regular FSM farmer’s market around the corner on Little Water St.\, all events run from 11am-5pm and will feature food and beverage samples from local producers\, live music\, presentations by local farmers\, winemakers and brewmasters and information on local vacations\, where to go apple picking and visit a farm! \nAgritourism destinations represented include Corning and the Southern Finger Lakes\, Long Island Convention & Visitors Bureau Inc\, Westchester County Tourism\, NY\, Sullivan Catskills\, and Dutchess Tourism\, Inc.\, in New York and Vermont Tourism. Presented by Amtrak. Thanks to media sponsorEdible Manhattan. \nStop by to check out our producers: Broken Bow Brewery Yonkers Brewing Co. Brooklyn Cider House Hillrock Estate Distillery Hudson Valley Food Tours New Paltz Brewing Company MYSTO MEAD
URL:https://escapemaker.com/event/escapemaker-coms-craft-beverage-tasting-showcase/
LOCATION:Fulton Stall Market\, 207A Front Street\, New York\, NY\, 10038\, United States
CATEGORIES:Food/Wine
ATTACH;FMTTYPE=image/jpeg:https://escapemaker.com/wp-content/uploads/2016/07/11224035_10153603946023716_7099914890614597462_o.jpg
END:VEVENT
BEGIN:VEVENT
DTSTART;TZID=America/New_York:20160624T080000
DTEND;TZID=America/New_York:20160624T170000
DTSTAMP:20260419T213007
CREATED:20160415T182459Z
LAST-MODIFIED:20160415T194432Z
UID:1503-1466755200-1466787600@escapemaker.com
SUMMARY:Berry Jam
DESCRIPTION:Greenmarket’s Union Square shoppers will get a special treat when EscapeMaker.com\, New York’s guide to local getaways and farm escapes\, hosts Berry Jam Friday\, June 24th from 10am-4pm on the north side of the square. \nThe event features farmers\, producers and winemakers within a striking distance of New York City. EscapeMaker will be on hand with info on how to visit farms\, farm stores\, breweries and wineries whether by car\, bus or by Amtrak. Plus\, representatives will be on hand from Westchester Tourism\, Corning and The Southern Finger Lakes\, Vermont Tourism and Dutchess County Tourism with info about visiting their local areas for your next agritourism escape. \nThe event kicks off with music\, demos\, free samples and all things berry.
URL:https://escapemaker.com/event/berry-jam/
LOCATION:Union Square Greenmarket\, 1 Union Sq\, East 17th St.\, New York\, NY\, 10003\, United States
CATEGORIES:Food/Wine
ATTACH;FMTTYPE=image/jpeg:https://escapemaker.com/wp-content/uploads/2016/04/berry-jam.jpg
ORGANIZER;CN="Caylin Sanders":MAILTO:info@escapemaker.com
END:VEVENT
BEGIN:VEVENT
DTSTART;VALUE=DATE:20160423
DTEND;VALUE=DATE:20160425
DTSTAMP:20260419T213007
CREATED:20160413T000903Z
LAST-MODIFIED:20160413T014746Z
UID:1463-1461369600-1461542399@escapemaker.com
SUMMARY:Arts in Bloom
DESCRIPTION:Times:\nSaturday\, April 23 from 10-7\nSunday\, April 24 from noon to 5 \nWelcome to Arts in Bloom\, a countywide open Studio & Gallery Trail\, where you get to meet the artist\, watch them create and learn what inspires their amazing work. The collective of artists that make up Arts in Bloom is a diverse and eclectic group of new\, and well established\, men and women who bring a range of techniques\, mediums and materials together to create what you will see in their workspaces and galleries. \nArts in Bloom was created as a result of the collaboration and efforts of a small group of dedicated artists who are not only passionate about their own work\, but also of the work being created throughout Steuben County. The richness and diversity of backgrounds of the many artists throughout the area is so compelling\, that creating this open Studio & Gallery trail was a natural progression. \nAs a free community event\, Arts in Bloom’s goal is to make art accessible to the entire region\, and strives to aid in the understanding and appreciation of the art that is being created in our own backyards. Through interaction with the artists\, our trail also endeavors to educate those in attendance as to the creative and technical processes by which art develops. As you visit the different studios and galleries\, you will experience many different forms of art\, much of which is for sale. When you find that special piece\, don’t be shy about taking it home with you. And keep in mind\, our artists work all year long\, and are happy to discuss personal commissions or purchasing at any time with you by appointment. \nWe hope you will be inspired by the artists of Steuben County\, and that you enjoy your time on the Arts in Bloom Trail. \n  \n  \n 
URL:https://escapemaker.com/event/1463/
LOCATION:Steuben County\, 8329 Pleasant Valley Road\, Hammondsport\,\, 14840\, United States
CATEGORIES:Exhibit/Display
ATTACH;FMTTYPE=image/jpeg:https://escapemaker.com/wp-content/uploads/2016/04/arts-in-bloom.jpg
ORGANIZER;CN="Debbie Meritsky and Marc Rotman":MAILTO:testemail@email.com
END:VEVENT
BEGIN:VEVENT
DTSTART;TZID=America/New_York:20160416T200000
DTEND;TZID=America/New_York:20160416T220000
DTSTAMP:20260419T213007
CREATED:20160413T000148Z
LAST-MODIFIED:20160414T001214Z
UID:1460-1460836800-1460844000@escapemaker.com
SUMMARY:Materialize! with Drew Thomas
DESCRIPTION:A masterful illusionist and former finalist on America’s Got Talent\, Drew Thomas who was hand-picked by David Copperfield’s manager to be the legendary magician’s successor at large theatrical venues. Don’t miss Materialize! -a Broadway-caliber magic show\, backed by a heart-pounding soundtrack mixed by a live DJ.
URL:https://escapemaker.com/event/materialize-with-drew-thomas-at-fm-kirby-center/
LOCATION:FM Kirby Center\, 71 Public Sq\, Wilkes-Barre\, PA\, 18701\, United States
CATEGORIES:Theatre
ATTACH;FMTTYPE=image/jpeg:https://escapemaker.com/wp-content/uploads/2016/04/drewthomas.jpg
END:VEVENT
BEGIN:VEVENT
DTSTART;TZID=America/New_York:20260419T213007
DTEND;TZID=America/New_York:20090413T000000
DTSTAMP:20260419T213007
CREATED:20180307T173828Z
LAST-MODIFIED:20180307T173828Z
UID:8911-0-1239580800@escapemaker.com
SUMMARY:Tap Into the MOST
DESCRIPTION:OBG presents TAP into the MOST\, the Museum’s premier beer\, wine and spirits tasting event with amazing food from your local favorites! Join us for a night of fun to support science education programs! (21 and over)\nRegular ticket price is $60\, and VIP ticket price is $90. Additional ticketing details can be found by clicking the event link. A limited number of tickets will be sold this year! \nThanks to our presenting sponsor\, any donation you make in addition to your ticket purchase will be matched dollar for dollar up to $10\,000 to support our STEM education programs! Buy your tickets AND donate today!
URL:https://escapemaker.com/event/tap-into-the-most/
LOCATION:Museum of Science and Technology\, 500 S Franklin St\, Syracuse\, NY\, 13202\, United States
END:VEVENT
BEGIN:VEVENT
DTSTART;TZID=America/New_York:20260419T213007
DTEND;TZID=America/New_York:20080714T000000
DTSTAMP:20260419T213007
CREATED:20180307T173828Z
LAST-MODIFIED:20180307T173828Z
UID:8912-0-1215993600@escapemaker.com
SUMMARY:The Empire Brewfest
DESCRIPTION:The Empire Brewfest is New York states premiere summer craft beer festival. The event takes over Chevy Court and fills the court with craft beer\, food\, games\, music on the stage\, volleyball games on the volleyball court and so much more. This is not your fathers craft beer festival. Come prepared to do! The Empire Brewfest\, you come for the beer but you stay for the fun!
URL:https://escapemaker.com/event/the-empire-brewfest/
LOCATION:NYS Fairgrounds\, 581 State Fair Blvd\, Syracuse\, NY\, 13209\, United States
END:VEVENT
BEGIN:VEVENT
DTSTART;TZID=America/New_York:20260419T213007
DTEND;TZID=America/New_York:20260419T213007
DTSTAMP:20260419T213007
CREATED:20190221T162227Z
LAST-MODIFIED:20190221T170532Z
UID:11206-0-0@escapemaker.com
SUMMARY:Rye Breads (Wide Awake Baking Class)
DESCRIPTION:In this introductory class we will make a variety of rye breads\, including Vollkornbrot\, Farmer’s Bread\, Finnish reikäleipä\, and black rye. Rye handles\, ferments\, bakes\, and tastes unlike wheat\, and it demands different skills. Come make and eat some beautiful rye! Includes lunch.
URL:https://escapemaker.com/event/rye-breads-wide-awake-baking-class/
LOCATION:Wide Awake Bakery\, 4361 Buck Hill Rd S\, Trumansburg\, NY\, 14886\, United States
ATTACH;FMTTYPE=image/jpeg:https://escapemaker.com/wp-content/uploads/2019/02/11-wide-awake-scaled.jpg
END:VEVENT
BEGIN:VEVENT
DTSTART;TZID=America/New_York:20260419T213007
DTEND;TZID=America/New_York:20260419T213007
DTSTAMP:20260419T213007
CREATED:20180717T131453Z
LAST-MODIFIED:20180717T131453Z
UID:9837-0-0@escapemaker.com
SUMMARY:Fort Delaware
DESCRIPTION:Holiday Cooking.
URL:https://escapemaker.com/event/fort-delaware/
LOCATION:Narrowsburg\, Narrowsburg\, NY\, 12764\, United States
END:VEVENT
BEGIN:VEVENT
DTSTART;TZID=America/New_York:20260419T213007
DTEND;TZID=America/New_York:20260419T213007
DTSTAMP:20260419T213007
CREATED:20180717T131453Z
LAST-MODIFIED:20180717T131453Z
UID:9838-0-0@escapemaker.com
SUMMARY:Bethel Woods Center for the Arts
DESCRIPTION:Gather and Give Photography Hike – all levels welcome.
URL:https://escapemaker.com/event/bethel-woods-center-for-the-arts/
LOCATION:Bethel\, Bethel\, NY\, 12720\, United States
END:VEVENT
BEGIN:VEVENT
DTSTART;TZID=America/New_York:20260419T213007
DTEND;TZID=America/New_York:20260419T213007
DTSTAMP:20260419T213007
CREATED:20180717T131453Z
LAST-MODIFIED:20180717T131453Z
UID:9839-0-0@escapemaker.com
SUMMARY:Grahamsville Fair Grounds
DESCRIPTION:Grahamsville Little World Fair
URL:https://escapemaker.com/event/grahamsville-fair-grounds/
LOCATION:Grahamsville\, Grahamsville\, NY\, 12740\, United States
END:VEVENT
BEGIN:VEVENT
DTSTART;TZID=America/New_York:20260419T213007
DTEND;TZID=America/New_York:20260419T213007
DTSTAMP:20260419T213007
CREATED:20180717T131453Z
LAST-MODIFIED:20180717T131453Z
UID:9840-0-0@escapemaker.com
SUMMARY:Bethel Woods Center for the Arts
DESCRIPTION:Slow Food Italian Style Cooking Demo
URL:https://escapemaker.com/event/bethel-woods-center-for-the-arts-2/
LOCATION:Bethel\, Bethel\, NY\, 12720\, United States
END:VEVENT
BEGIN:VEVENT
DTSTART;TZID=America/New_York:20260419T213007
DTEND;TZID=America/New_York:20260419T213007
DTSTAMP:20260419T213007
CREATED:20180717T131452Z
LAST-MODIFIED:20180717T131452Z
UID:9835-0-0@escapemaker.com
SUMMARY:Roscoe's 4th Annual Summer Fest
DESCRIPTION:Make memories: vendors\, performance by the Hillbilly Parade\, and more.
URL:https://escapemaker.com/event/roscoes-4th-annual-summer-fest/
LOCATION:Roscoe\, Roscoe\, NY\, 12776\, United States
END:VEVENT
BEGIN:VEVENT
DTSTART;TZID=America/New_York:20260419T213007
DTEND;TZID=America/New_York:20260419T213007
DTSTAMP:20260419T213007
CREATED:20180717T131452Z
LAST-MODIFIED:20180717T131452Z
UID:9836-0-0@escapemaker.com
SUMMARY:Time and the Valley's Museum
DESCRIPTION:1930’s Catskill Farm Hoedown.
URL:https://escapemaker.com/event/time-and-the-valleys-museum/
LOCATION:Grahamsville\, Grahamsville\, NY\, 12740\, United States
END:VEVENT
BEGIN:VEVENT
DTSTART;TZID=America/New_York:20260419T213007
DTEND;TZID=America/New_York:20260419T213007
DTSTAMP:20260419T213007
CREATED:20180717T131452Z
LAST-MODIFIED:20180717T131452Z
UID:9833-0-0@escapemaker.com
SUMMARY:CCE Sullivan & Ag Food Systems
DESCRIPTION:Cooking with Laura Silverman.
URL:https://escapemaker.com/event/cce-sullivan-ag-food-systems/
LOCATION:CCE Ferndale\, 64 Ferndale Loomis Rd #1\, Liberty\, NY\, 12754\, United States
END:VEVENT
BEGIN:VEVENT
DTSTART;TZID=America/New_York:20260419T213007
DTEND;TZID=America/New_York:20260419T213007
DTSTAMP:20260419T213007
CREATED:20180717T131452Z
LAST-MODIFIED:20180717T131452Z
UID:9834-0-0@escapemaker.com
SUMMARY:Callicoon Country Fair
DESCRIPTION:A fun filled day of food\, games\, music and shopping. 
URL:https://escapemaker.com/event/callicoon-country-fair/
LOCATION:Callicoon\, Callicoon\, NY\, 12723\, United States
END:VEVENT
BEGIN:VEVENT
DTSTART;TZID=America/New_York:20260419T213007
DTEND;TZID=America/New_York:20260419T213007
DTSTAMP:20260419T213007
CREATED:20180717T131451Z
LAST-MODIFIED:20180717T131451Z
UID:9832-0-0@escapemaker.com
SUMMARY:Riverfest
DESCRIPTION:Art\, music\, and ecology are the focal point at DVAA’s 28th annual street fair.
URL:https://escapemaker.com/event/riverfest/
LOCATION:Narrowsburg\, Narrowsburg\, NY\, 12764\, United States
END:VEVENT
BEGIN:VEVENT
DTSTART;TZID=America/New_York:20260419T213007
DTEND;TZID=America/New_York:20260419T213007
DTSTAMP:20260419T213007
CREATED:20180717T131450Z
LAST-MODIFIED:20180717T131450Z
UID:9827-0-0@escapemaker.com
SUMMARY:Henning's Local
DESCRIPTION:Fresh pasta making with two wild foraged sauces.
URL:https://escapemaker.com/event/hennings-local-3/
LOCATION:Cochecton\, Cochecton\, NY\, 12726\, United States
END:VEVENT
BEGIN:VEVENT
DTSTART;TZID=America/New_York:20260419T213007
DTEND;TZID=America/New_York:20260419T213007
DTSTAMP:20260419T213007
CREATED:20180717T131450Z
LAST-MODIFIED:20180717T131450Z
UID:9828-0-0@escapemaker.com
SUMMARY:Henning's Local
DESCRIPTION:Wild foods pizza making with Cheryl Perry and Laura Silverman.
URL:https://escapemaker.com/event/hennings-local-4/
LOCATION:Cochecton\, Cochecton\, NY\, 12726\, United States
END:VEVENT
END:VCALENDAR