BEGIN:VCALENDAR
VERSION:2.0
PRODID:-//EscapeMaker - ECPv6.2.2.1//NONSGML v1.0//EN
CALSCALE:GREGORIAN
METHOD:PUBLISH
X-WR-CALNAME:EscapeMaker
X-ORIGINAL-URL:https://escapemaker.com
X-WR-CALDESC:Events for EscapeMaker
REFRESH-INTERVAL;VALUE=DURATION:PT1H
X-Robots-Tag:noindex
X-PUBLISHED-TTL:PT1H
BEGIN:VTIMEZONE
TZID:America/New_York
BEGIN:DAYLIGHT
TZOFFSETFROM:-0500
TZOFFSETTO:-0400
TZNAME:EDT
DTSTART:20170312T070000
END:DAYLIGHT
BEGIN:STANDARD
TZOFFSETFROM:-0400
TZOFFSETTO:-0500
TZNAME:EST
DTSTART:20171105T060000
END:STANDARD
END:VTIMEZONE
BEGIN:VEVENT
DTSTART;TZID=America/New_York:20170625T110000
DTEND;TZID=America/New_York:20170625T160000
DTSTAMP:20260419T114229
CREATED:20170403T201705Z
LAST-MODIFIED:20170403T201705Z
UID:5501-1498388400-1498406400@escapemaker.com
SUMMARY:Harvey’s Lake Beach Association Juried Arts and Antiques Festival
DESCRIPTION:A collection of vendors will offer fine art\, antiques\, handmade crafts and homemade food items.
URL:https://escapemaker.com/event/harveys-lake-beach-association-juried-arts-and-antiques-festival/
LOCATION:Harveys Lake\, PA\, United States
CATEGORIES:Family/Kid-Friendly,Festival,Art
END:VEVENT
BEGIN:VEVENT
DTSTART;TZID=America/New_York:20170625T100000
DTEND;TZID=America/New_York:20170625T170000
DTSTAMP:20260419T114229
CREATED:20170627T183107Z
LAST-MODIFIED:20170627T183107Z
UID:6525-1498384800-1498410000@escapemaker.com
SUMMARY:Rhinebeck Crafts Festival
DESCRIPTION:Enjoy exciting shopping with over 200 outstanding makers\, designers\, artists and craftspeople from across the county\, as well as interactive experiences\, exceptional live music\, craft and art demonstrations\, hands-on art encounters\, children’s activities\, gourmet food purveyors\, delicious concessions and more!
URL:https://escapemaker.com/event/rhinebeck-crafts-festival-2/
LOCATION:Dutchess County Fairgrounds\, 6636 Route 9\, Rhinebeck\, NY\, 12572\, United States
CATEGORIES:Festival
END:VEVENT
BEGIN:VEVENT
DTSTART;TZID=America/New_York:20170625T100000
DTEND;TZID=America/New_York:20170625T170000
DTSTAMP:20260419T114229
CREATED:20170516T165458Z
LAST-MODIFIED:20170516T165458Z
UID:6160-1498384800-1498410000@escapemaker.com
SUMMARY:Warm Weather Weekends
DESCRIPTION:Calendar Events: Warm-Weather Weekend Admission:ÿOn a Saturday or Sunday visit to Stone Barns from April through November\, participate in a variety of seasonal\, hands-on activities and drop-in tours\, all included with your one-day admission ticket.
URL:https://escapemaker.com/event/warm-weather-weekends-15/
LOCATION:NY
END:VEVENT
BEGIN:VEVENT
DTSTART;TZID=America/New_York:20170625T093000
DTEND;TZID=America/New_York:20170625T143000
DTSTAMP:20260419T114229
CREATED:20170516T172903Z
LAST-MODIFIED:20170516T172903Z
UID:6205-1498383000-1498401000@escapemaker.com
SUMMARY:Farmer's Market
DESCRIPTION:More than 20 vendors offer fresh produce and local food products every Sunday through October.
URL:https://escapemaker.com/event/farmers-market-8/
LOCATION:Alfred B. DelBello Muscoot Farm\, 51 NY-100\, Katonah\, NY\, 10536\, United States
END:VEVENT
BEGIN:VEVENT
DTSTART;TZID=America/New_York:20170625T070000
DTEND;TZID=America/New_York:20170625T180000
DTSTAMP:20260419T114229
CREATED:20170627T183108Z
LAST-MODIFIED:20170627T183108Z
UID:6526-1498374000-1498413600@escapemaker.com
SUMMARY:Discover Hudson Valley Ride
DESCRIPTION:Choose from several mileage options (100\, 75\, 55\, 33\, or a family-friendly 15) and enjoy a beautiful ride in the Hudson Valley. Each route starts and ends in Poughkeepsie’s Waryas Park and will take you over the Walkway Over the Hudson State Historic Park. Includes breakfast\, a finish festival and t-shirt; rides feature SAG support\, fully stocked rest areas\, ride marshals\, and incredible views. On ride day\, Metro-North suspends its bike permit requirements to allow 75 bikes/train!
URL:https://escapemaker.com/event/discover-hudson-valley-ride/
LOCATION:Victor C. Waryas Park\, Main St.\, Poughkeepsie\, NY\, United States
CATEGORIES:Outdoors
END:VEVENT
BEGIN:VEVENT
DTSTART;TZID=America/New_York:20170624T193000
DTEND;TZID=America/New_York:20170624T220000
DTSTAMP:20260419T114229
CREATED:20170627T183103Z
LAST-MODIFIED:20170627T183103Z
UID:6523-1498332600-1498341600@escapemaker.com
SUMMARY:Summer Solstice Lobster Bake
DESCRIPTION:Enjoy a magical evening and dine under the stars\, enjoy the atmosphere and the fine Millbrook wines and amazing lobster feast prepared by Slammin’ Salmon of Millbrook
URL:https://escapemaker.com/event/summer-solstice-lobster-bake/
LOCATION:NY
CATEGORIES:Wine & Dine
END:VEVENT
BEGIN:VEVENT
DTSTART;TZID=America/New_York:20170624T100000
DTEND;TZID=America/New_York:20170625T180000
DTSTAMP:20260419T114229
CREATED:20170403T201425Z
LAST-MODIFIED:20170403T201425Z
UID:5499-1498298400-1498413600@escapemaker.com
SUMMARY:SPCA of Luzerne County’s Pet Expo
DESCRIPTION:Pet talent contest\, animal photos\, training tips\, live animals and much more. Animal welfare organizations\, business with animal related products and services\, local business\, and craft vendors.
URL:https://escapemaker.com/event/spca-of-luzerne-countys-pet-expo/
LOCATION:NY
CATEGORIES:Fair,Family/Kid-Friendly,Festival
END:VEVENT
BEGIN:VEVENT
DTSTART;TZID=America/New_York:20170624T100000
DTEND;TZID=America/New_York:20170625T170000
DTSTAMP:20260419T114229
CREATED:20170627T183015Z
LAST-MODIFIED:20170627T183015Z
UID:6498-1498298400-1498410000@escapemaker.com
SUMMARY:Old Rhinebeck Aerodrome Airshow
DESCRIPTION:The stars are the historic airplanes including our 1909 Bleriot\, the oldest regularly flying airplane in the Western Hemisphere; the Fokker DR-I Triplane\, the most famous fighter of WWI; and a precise replica of the Spirit of St. Louis\, which was the first aircraft to fly NY to Paris in 1927. While aircraft rotate on and off the flightline\, usually 15-20 are flyable for our shows. The Saturday “History of Flight” programs highlight the Pioneer era before WWI\, a WWI show teaser\, and the Golden Age of Aviation in the ’20s and ’30s. The Sunday shows are our WWI spectacular with a hero\, a heroine (Cheer!)\, the villainous Black Baron of Rhinebeck (Boo!)\, scenery\, pyrotechnics and a WWI tank.  Gift Shop and snack bar will be open.  Come early and stay late to see the Museum\, take a Bi-plane ride\, or enjoy the grounds.  Show begins at 2 pm and run until approximatley 4 pm.
URL:https://escapemaker.com/event/old-rhinebeck-aerodrome-airshow-3/
LOCATION:Old Rhinebeck Aerodrome\, 9 Norton Road\, Red Hook\, NY\, 12571\, United States
CATEGORIES:Family Fun
END:VEVENT
BEGIN:VEVENT
DTSTART;TZID=America/New_York:20170624T100000
DTEND;TZID=America/New_York:20170625T170000
DTSTAMP:20260419T114229
CREATED:20170403T200602Z
LAST-MODIFIED:20170403T200602Z
UID:5497-1498298400-1498410000@escapemaker.com
SUMMARY:Eckley Miners’ Village Irish Fest
DESCRIPTION:Irish step dancers\, bands\, vintage baseball\, activities\, food\, carriage rides\, there will also be a “St. Patrick’s Day in June” Parade at 2:00 pm.
URL:https://escapemaker.com/event/eckley-miners-village-irish-fest/
LOCATION:Eckley Miners’ Village\, 2 Eckley Back Rd\, Weatherly\, PA\, 18255\, United States
CATEGORIES:Food/Wine,Fair,Family/Kid-Friendly,Festival
END:VEVENT
BEGIN:VEVENT
DTSTART;TZID=America/New_York:20170624T100000
DTEND;TZID=America/New_York:20170625T170000
DTSTAMP:20260419T114229
CREATED:20170403T200325Z
LAST-MODIFIED:20170403T200325Z
UID:5493-1498298400-1498410000@escapemaker.com
SUMMARY:Great Tastes of Pennsylvania Wine & Food Festival
DESCRIPTION:This two-day\, outdoor festival features food and craft vendors\, live musical entertainment\, and samples from an estimated 30 Pennsylvania wineries.
URL:https://escapemaker.com/event/great-tastes-of-pennsylvania-wine-food-festival/
LOCATION:Lake Harmony\, Lake Harmony\, PA\, United States
CATEGORIES:Food/Wine,Family/Kid-Friendly,Festival
END:VEVENT
BEGIN:VEVENT
DTSTART;TZID=America/New_York:20170624T100000
DTEND;TZID=America/New_York:20170624T180000
DTSTAMP:20260419T114229
CREATED:20170627T183105Z
LAST-MODIFIED:20170627T183105Z
UID:6524-1498298400-1498327200@escapemaker.com
SUMMARY:Rhinebeck Crafts Festival
DESCRIPTION:Enjoy exciting shopping with over 200 outstanding makers\, designers\, artists and craftspeople from across the county\, as well as interactive experiences\, exceptional live music\, craft and art demonstrations\, hands-on art encounters\, children’s activities\, gourmet food purveyors\, delicious concessions and more!
URL:https://escapemaker.com/event/rhinebeck-crafts-festival/
LOCATION:Dutchess County Fairgrounds\, 6636 Route 9\, Rhinebeck\, NY\, 12572\, United States
CATEGORIES:Festival
END:VEVENT
BEGIN:VEVENT
DTSTART;TZID=America/New_York:20170624T100000
DTEND;TZID=America/New_York:20170624T170000
DTSTAMP:20260419T114229
CREATED:20170516T165458Z
LAST-MODIFIED:20170516T165458Z
UID:6159-1498298400-1498323600@escapemaker.com
SUMMARY:Warm Weather Weekends
DESCRIPTION:Calendar Events: Warm-Weather Weekend Admission:ÿOn a Saturday or Sunday visit to Stone Barns from April through November\, participate in a variety of seasonal\, hands-on activities and drop-in tours\, all included with your one-day admission ticket.
URL:https://escapemaker.com/event/warm-weather-weekends-14/
LOCATION:NY
END:VEVENT
BEGIN:VEVENT
DTSTART;TZID=America/New_York:20170624T090000
DTEND;TZID=America/New_York:20170624T130000
DTSTAMP:20260419T114229
CREATED:20170516T174553Z
LAST-MODIFIED:20170516T174553Z
UID:6232-1498294800-1498309200@escapemaker.com
SUMMARY:Hancock Farmers Market on The Square
DESCRIPTION:Every Saturday throughout the summer shop local growers\, artists\, and purveyors of fine produce\, handcrafted products\, and artisan and gourmet delicacies present their unique and wonderful wares at the Hancock Town Square. Visitors are treated to a dizzying array of products to suit every taste ? from organic produce and homemade goodies to craft brews and artisan cheeses.\nWhile you?re here\, enjoy special presentations such as product samples and demonstrations on a variety of topics such as beekeeping and cheese making and special live performances throughout the season!
URL:https://escapemaker.com/event/hancock-farmers-market-on-the-square-7/
LOCATION:Destination Hancock\, Hancock Town Square\, Hancock\, NY\, 13783\, United States
CATEGORIES:Farmers Market
END:VEVENT
BEGIN:VEVENT
DTSTART;TZID=America/New_York:20170624T000000
DTEND;TZID=America/New_York:20170625T000000
DTSTAMP:20260419T114229
CREATED:20170331T185859Z
LAST-MODIFIED:20170331T185859Z
UID:5460-1498262400-1498348800@escapemaker.com
SUMMARY:The Delaware County New York  Civil War Reenactment\, 144th Volunteer Infantry Regiment in Delhi
DESCRIPTION:Please join the Delaware Historical Association in celebrating the return of the 144th New York State Volunteers as they form together to recognize the Battle of Honey Hill and Battle of Fredericksburg and Pickett’s Charge. Living History Exhibit\, kids’ drill\, artillery demo\, and Civil War Battlefield Reenactments.
URL:https://escapemaker.com/event/the-delaware-county-new-york-civil-war-reenactment-144th-volunteer-infantry-regiment-in-delhi/
LOCATION:Delaware Historical Association\, 46549 State Highway 10 \, Delhi\, NY\, 13753-3248 \, United States
CATEGORIES:Hisotry/Museum
END:VEVENT
BEGIN:VEVENT
DTSTART;VALUE=DATE:20170624
DTEND;VALUE=DATE:20170625
DTSTAMP:20260419T114229
CREATED:20170523T213200Z
LAST-MODIFIED:20170523T213200Z
UID:6275-1498262400-1498348799@escapemaker.com
SUMMARY:Ithaca Raggae Fest
DESCRIPTION:Ithaca Reggae Fest is dedicated to the protection of Cayuga Lake through a vibrant celebration of Ithaca’s legendary reggae community and its history.  The Ithaca Reggae Festival is a celebration of the vibrant and historical Reggae scene in Ithaca and throughout the Finger Lakes region with a one day event at Stewart Park\, dedicated to the protection and restoration of Cayuga Lake.
URL:https://escapemaker.com/event/ithaca-raggae-fest/
LOCATION:Stewart Park\, 1 James L Gibbs Dr \, Ithaca\, NY\, 14850\, United States
CATEGORIES:Festival
END:VEVENT
BEGIN:VEVENT
DTSTART;VALUE=DATE:20170623
DTEND;VALUE=DATE:20170626
DTSTAMP:20260419T114229
CREATED:20170403T200125Z
LAST-MODIFIED:20170405T145759Z
UID:5490-1498176000-1498435199@escapemaker.com
SUMMARY:Wyoming Valley Riverfest
DESCRIPTION:Riverfest celebration includes music\, environmental education\, kids’ games and activities\, paddling trips\, River Common and Nesbitt Park\, Wilkes-Barre
URL:https://escapemaker.com/event/wyoming-valley-riverfest/
LOCATION:Nesbitt Park\, Kingston\, PA\, United States
CATEGORIES:Food/Wine,Family/Kid-Friendly,Festival,Outdoor Event
END:VEVENT
BEGIN:VEVENT
DTSTART;TZID=America/New_York:20170620T100000
DTEND;TZID=America/New_York:20170625T190000
DTSTAMP:20260419T114229
CREATED:20170403T195507Z
LAST-MODIFIED:20170403T195507Z
UID:5487-1497952800-1498417200@escapemaker.com
SUMMARY:Northeast Fair
DESCRIPTION:Free parking for thousands of cars\, a tremendous amount of family and musical entertainment\, exhibitors and vendors\, and of course\, lots & lots of delicious food!
URL:https://escapemaker.com/event/northeast-fair/
LOCATION:Pittston\, Pittston\, PA\, United States
CATEGORIES:Fair,Family/Kid-Friendly,Festival,Outdoor Event
END:VEVENT
BEGIN:VEVENT
DTSTART;TZID=America/New_York:20170618T103000
DTEND;TZID=America/New_York:20170618T173000
DTSTAMP:20260419T114229
CREATED:20170523T213203Z
LAST-MODIFIED:20170523T213203Z
UID:6284-1497781800-1497807000@escapemaker.com
SUMMARY:Experience! The Finger Lakes Culinary Festival
DESCRIPTION:Over 20 FLX Artisan beverage and food producers will be on the Ithaca Commons where guests will experience “tasting trios” of their favorite Finger Lakes wines\, ciders\, beers\, spirits\, cheeses\, and other amazing food items! The VIP Culinary Experience sponsored by Coltivare features your selection of cooking or wine pairing demonstrations at the Coltivare Presentation Ampitheater to augment your Ithaca Commons Festival experience!
URL:https://escapemaker.com/event/experience-the-finger-lakes-culinary-festival/
LOCATION:Downtown Ithaca\, 171 E M.L.K. Jr. St \, Ithaca\, NY\, 14850\, United States
CATEGORIES:Festival
END:VEVENT
BEGIN:VEVENT
DTSTART;TZID=America/New_York:20170618T100000
DTEND;TZID=America/New_York:20170618T170000
DTSTAMP:20260419T114229
CREATED:20170516T165458Z
LAST-MODIFIED:20170516T165458Z
UID:6158-1497780000-1497805200@escapemaker.com
SUMMARY:Warm Weather Weekends
DESCRIPTION:Calendar Events: Warm-Weather Weekend Admission:ÿOn a Saturday or Sunday visit to Stone Barns from April through November\, participate in a variety of seasonal\, hands-on activities and drop-in tours\, all included with your one-day admission ticket.
URL:https://escapemaker.com/event/warm-weather-weekends-13/
LOCATION:NY
END:VEVENT
BEGIN:VEVENT
DTSTART;TZID=America/New_York:20170618T093000
DTEND;TZID=America/New_York:20170618T143000
DTSTAMP:20260419T114229
CREATED:20170516T172903Z
LAST-MODIFIED:20170516T172903Z
UID:6204-1497778200-1497796200@escapemaker.com
SUMMARY:Farmer's Market
DESCRIPTION:More than 20 vendors offer fresh produce and local food products every Sunday through October.
URL:https://escapemaker.com/event/farmers-market-7/
LOCATION:Alfred B. DelBello Muscoot Farm\, 51 NY-100\, Katonah\, NY\, 10536\, United States
END:VEVENT
BEGIN:VEVENT
DTSTART;TZID=America/New_York:20170617T140000
DTEND;TZID=America/New_York:20170617T160000
DTSTAMP:20260419T114229
CREATED:20170331T185859Z
LAST-MODIFIED:20170331T185859Z
UID:5459-1497708000-1497715200@escapemaker.com
SUMMARY:Delaware Historical Association Author Presentation of "The Quarry Fox" in Delhi
DESCRIPTION:Book signing and talk by local author and teacher Leslie Sharp. Leslie will be on hand to talk about her recently released book\, The Quarry Fox.
URL:https://escapemaker.com/event/delaware-historical-association-author-presentation-of-the-quarry-fox-in-delhi/
LOCATION:Delaware Historical Association\, 46549 State Highway 10 \, Delhi\, NY\, 13753-3248 \, United States
CATEGORIES:Hisotry/Museum
END:VEVENT
BEGIN:VEVENT
DTSTART;TZID=America/New_York:20170617T120000
DTEND;TZID=America/New_York:20170617T170000
DTSTAMP:20260419T114229
CREATED:20170523T213200Z
LAST-MODIFIED:20170523T213200Z
UID:6274-1497700800-1497718800@escapemaker.com
SUMMARY:Trumansburg Porch Fest
DESCRIPTION:Paired that with an after-party on the Ithaca Commons featuring food from Yellow Truck catering including locally sourced ingredients\, brews from Ithaca Beer\, and music from the 
URL:https://escapemaker.com/event/trumansburg-porch-fest/
LOCATION:NY
CATEGORIES:Festival/Music
END:VEVENT
BEGIN:VEVENT
DTSTART;TZID=America/New_York:20170617T100000
DTEND;TZID=America/New_York:20170618T190000
DTSTAMP:20260419T114229
CREATED:20170331T185902Z
LAST-MODIFIED:20170331T185902Z
UID:5468-1497693600-1497812400@escapemaker.com
SUMMARY:Meredith Dairy Fest
DESCRIPTION:Meredith Dairy Fest is back! Come visit the Meredith Dairy Fest to meet farmers and their animals alongside local makers and vendors!
URL:https://escapemaker.com/event/meredith-dairy-fest/
LOCATION:Meredith Dairy Fest\, Meridale\, NY\, 13806\, United States
CATEGORIES:Farm Festival
END:VEVENT
BEGIN:VEVENT
DTSTART;TZID=America/New_York:20170617T100000
DTEND;TZID=America/New_York:20170618T170000
DTSTAMP:20260419T114229
CREATED:20170627T183013Z
LAST-MODIFIED:20170627T183013Z
UID:6497-1497693600-1497805200@escapemaker.com
SUMMARY:Old Rhinebeck Aerodrome Airshow
DESCRIPTION:The stars are the historic airplanes including our 1909 Bleriot\, the oldest regularly flying airplane in the Western Hemisphere; the Fokker DR-I Triplane\, the most famous fighter of WWI; and a precise replica of the Spirit of St. Louis\, which was the first aircraft to fly NY to Paris in 1927. While aircraft rotate on and off the flightline\, usually 15-20 are flyable for our shows. The Saturday “History of Flight” programs highlight the Pioneer era before WWI\, a WWI show teaser\, and the Golden Age of Aviation in the ’20s and ’30s. The Sunday shows are our WWI spectacular with a hero\, a heroine (Cheer!)\, the villainous Black Baron of Rhinebeck (Boo!)\, scenery\, pyrotechnics and a WWI tank.  Gift Shop and snack bar will be open.  Come early and stay late to see the Museum\, take a Bi-plane ride\, or enjoy the grounds.  Show begins at 2 pm and run until approximatley 4 pm.
URL:https://escapemaker.com/event/old-rhinebeck-aerodrome-airshow-2/
LOCATION:Old Rhinebeck Aerodrome\, 9 Norton Road\, Red Hook\, NY\, 12571\, United States
CATEGORIES:Family Fun
END:VEVENT
BEGIN:VEVENT
DTSTART;TZID=America/New_York:20170617T100000
DTEND;TZID=America/New_York:20170617T170000
DTSTAMP:20260419T114229
CREATED:20170516T165457Z
LAST-MODIFIED:20170516T165457Z
UID:6157-1497693600-1497718800@escapemaker.com
SUMMARY:Warm Weather Weekends
DESCRIPTION:Calendar Events: Warm-Weather Weekend Admission:ÿOn a Saturday or Sunday visit to Stone Barns from April through November\, participate in a variety of seasonal\, hands-on activities and drop-in tours\, all included with your one-day admission ticket.
URL:https://escapemaker.com/event/warm-weather-weekends-12/
LOCATION:NY
END:VEVENT
BEGIN:VEVENT
DTSTART;TZID=America/New_York:20170617T090000
DTEND;TZID=America/New_York:20170617T130000
DTSTAMP:20260419T114229
CREATED:20170516T174553Z
LAST-MODIFIED:20170516T174553Z
UID:6231-1497690000-1497704400@escapemaker.com
SUMMARY:Hancock Farmers Market on The Square
DESCRIPTION:Every Saturday throughout the summer shop local growers\, artists\, and purveyors of fine produce\, handcrafted products\, and artisan and gourmet delicacies present their unique and wonderful wares at the Hancock Town Square. Visitors are treated to a dizzying array of products to suit every taste ? from organic produce and homemade goodies to craft brews and artisan cheeses.\nWhile you?re here\, enjoy special presentations such as product samples and demonstrations on a variety of topics such as beekeeping and cheese making and special live performances throughout the season!
URL:https://escapemaker.com/event/hancock-farmers-market-on-the-square-6/
LOCATION:Destination Hancock\, Hancock Town Square\, Hancock\, NY\, 13783\, United States
CATEGORIES:Farmers Market
END:VEVENT
BEGIN:VEVENT
DTSTART;TZID=America/New_York:20170617T073000
DTEND;TZID=America/New_York:20170617T130000
DTSTAMP:20260419T114229
CREATED:20170523T213200Z
LAST-MODIFIED:20170523T213200Z
UID:6273-1497684600-1497704400@escapemaker.com
SUMMARY:Gorges Half
DESCRIPTION:The Gorges Ithaca Half\, presented by the Cayuga Wellness Center\, offers entrants a representative bite of Ithaca. The third course incarnation\, new in 2017\, will make use of the recently completed Black Diamond rail trail\, allowing us to create one of the faster and more scenic road’ish half courses you’ll find anywhere. Paired that with an after-party on the Ithaca Commons featuring food from Yellow Truck catering including locally sourced ingredients\, brews from Ithaca Beer\, and music from the West Hillbillies.
URL:https://escapemaker.com/event/gorges-half/
LOCATION:NY
CATEGORIES:Sport/Outdoor Activity
END:VEVENT
BEGIN:VEVENT
DTSTART;TZID=America/New_York:20170616T210000
DTEND;TZID=America/New_York:20170616T210000
DTSTAMP:20260419T114229
CREATED:20170331T185855Z
LAST-MODIFIED:20170331T185855Z
UID:5448-1497646800-1497646800@escapemaker.com
SUMMARY:Summer Nights Live on The Square Rani Arbo & daisy mayhem Conert in Hancock
DESCRIPTION:Harmony\, rhythm\, indelible songs ? these are the hallmarks of Rani Arbo & daisy mayhem\, the New England based folk quartet now in its 17th year. From the Newport Folk Festival to the California World Music Festival and beyond\, this band?s steadfast brew of wit\, camaraderie\, and musicality leaves audiences everywhere humming and hopeful\, spirits renewed.
URL:https://escapemaker.com/event/summer-nights-live-on-the-square-rani-arbo-daisy-mayhem-conert-in-hancock/
LOCATION:Destination Hancock\, Hancock Town Square\, Hancock\, NY\, 13783\, United States
CATEGORIES:Concert
END:VEVENT
BEGIN:VEVENT
DTSTART;TZID=America/New_York:20170616T100000
DTEND;TZID=America/New_York:20170616T160000
DTSTAMP:20260419T114229
CREATED:20170217T211651Z
LAST-MODIFIED:20170217T211651Z
UID:5185-1497607200-1497628800@escapemaker.com
SUMMARY:EscapeMaker.com's County Fair Jamboree
DESCRIPTION:Dear EscapeMakers — Got a hankering for all those sweet summer flavors of the county fair? Come and get your pies\, berries and more at our special agritourism event:\n \n County Fair Jamboree at the GrowNYC Union Square Greenmarket\nFriday\, June 16th\nfrom 10am-4pm!\nFREE! ALL AGES! \nFree samples\, live music\, pie\, berries and more! \nPlus\, pick up free info from our local travel getaway partner agritourism destinations like Corning and the Southern Finger Lakes\,  Sullivan County Catskills\, Amtrak\, Vermont Tourism\, Westchester County Tourism\, NY\,  Dutchess Tourism\, Inc.\, New York Apple Association\, Ithaca\, Long Island and more! \nGrowNYC Greenmarket partners sampling to be announced! Check back for updates in the coming weeks.
URL:https://escapemaker.com/event/escapemaker-coms-county-fair-jamboree/
LOCATION:Union Square Greenmarket\, 1 Union Sq\, East 17th St.\, New York\, NY\, 10003\, United States
CATEGORIES:Food/Wine,Family/Kid-Friendly,Festival,Outdoor Event
ATTACH;FMTTYPE=image/jpeg:https://escapemaker.com/wp-content/uploads/2017/02/pie.jpg
END:VEVENT
BEGIN:VEVENT
DTSTART;TZID=America/New_York:20170611T120000
DTEND;TZID=America/New_York:20170611T170000
DTSTAMP:20260419T114229
CREATED:20170627T183102Z
LAST-MODIFIED:20170627T183102Z
UID:6522-1497182400-1497200400@escapemaker.com
SUMMARY:Beacon Sloop Club Strawberry Festival
DESCRIPTION:Enjoy fresh homemade strawberry shortcake and other strawberry treats made with local Hudson Valley berries alongside live music\, environmental speakers and displays\, crafts\, and food vendors. An all ages event\, there will be plenty of free activities for kids!
URL:https://escapemaker.com/event/beacon-sloop-club-strawberry-festival/
LOCATION:Riverfront Park\, 1 Flynn Drive\, Beacon\, NY\, United States
CATEGORIES:Festival
END:VEVENT
END:VCALENDAR