BEGIN:VCALENDAR
VERSION:2.0
PRODID:-//EscapeMaker - ECPv6.2.2.1//NONSGML v1.0//EN
CALSCALE:GREGORIAN
METHOD:PUBLISH
X-ORIGINAL-URL:https://escapemaker.com
X-WR-CALDESC:Events for EscapeMaker
REFRESH-INTERVAL;VALUE=DURATION:PT1H
X-Robots-Tag:noindex
X-PUBLISHED-TTL:PT1H
BEGIN:VTIMEZONE
TZID:America/New_York
BEGIN:DAYLIGHT
TZOFFSETFROM:-0500
TZOFFSETTO:-0400
TZNAME:EDT
DTSTART:20170312T070000
END:DAYLIGHT
BEGIN:STANDARD
TZOFFSETFROM:-0400
TZOFFSETTO:-0500
TZNAME:EST
DTSTART:20171105T060000
END:STANDARD
END:VTIMEZONE
BEGIN:VEVENT
DTSTART;TZID=America/New_York:20170923T000000
DTEND;TZID=America/New_York:20170925T000000
DTSTAMP:20260421T073449
CREATED:20170331T185859Z
LAST-MODIFIED:20170331T185859Z
UID:5461-1506124800-1506297600@escapemaker.com
SUMMARY:Historic Automobile Endurance Run from Weehawken\, NJ to Pittsburgh\, PA
DESCRIPTION:In 1903 the National Association of Automobile Manufacturers sponsored an 800-mile endurance run from Weehawken\, NJ to Pittsburgh\, PA. Thirty-four competing automobiles departed on October 7\, 1903 and traveled up the Hudson Valley and then through the Catskill Mountains. Reaching Delhi on the second day in a driving rain\, they continued on through Franklin and then to Binghamton and beyond. Robert Selkowitz\, Director of Historic Automobile Endurance Runs\, LLC\, is planning to recreate a part of the run with vintage cars.
URL:https://escapemaker.com/event/historic-automobile-endurance-run-from-weehawken-nj-to-pittsburgh-pa/
LOCATION:Historic Automobile Endurance Runs\, LLC\, 3024 State Route 28\, Shokan\, NY\, 12481\, United States
CATEGORIES:History/Car Event
END:VEVENT
END:VCALENDAR