BEGIN:VCALENDAR
VERSION:2.0
PRODID:-//EscapeMaker - ECPv6.2.2.1//NONSGML v1.0//EN
CALSCALE:GREGORIAN
METHOD:PUBLISH
X-WR-CALNAME:EscapeMaker
X-ORIGINAL-URL:https://escapemaker.com
X-WR-CALDESC:Events for EscapeMaker
REFRESH-INTERVAL;VALUE=DURATION:PT1H
X-Robots-Tag:noindex
X-PUBLISHED-TTL:PT1H
BEGIN:VTIMEZONE
TZID:America/New_York
BEGIN:DAYLIGHT
TZOFFSETFROM:-0500
TZOFFSETTO:-0400
TZNAME:EDT
DTSTART:20180311T070000
END:DAYLIGHT
BEGIN:STANDARD
TZOFFSETFROM:-0400
TZOFFSETTO:-0500
TZNAME:EST
DTSTART:20181104T060000
END:STANDARD
END:VTIMEZONE
BEGIN:VEVENT
DTSTART;TZID=America/New_York:20181111T170000
DTEND;TZID=America/New_York:20181111T200000
DTSTAMP:20260421T072955
CREATED:20180816T193358Z
LAST-MODIFIED:20180816T193358Z
UID:10045-1541955600-1541966400@escapemaker.com
SUMMARY:Healthy Food for All dinner series
DESCRIPTION:West Haven Farm Dinner featuring Chef’s from Ithaca’s Just a Taste
URL:https://escapemaker.com/event/healthy-food-for-all-dinner-series-2/
LOCATION:West Haven Farm\, 114 Rachel Carson Way\, Ithaca\, NY\, 14850\, United States
CATEGORIES:Dining
END:VEVENT
BEGIN:VEVENT
DTSTART;TZID=America/New_York:20180818T120000
DTEND;TZID=America/New_York:20180818T160000
DTSTAMP:20260421T072955
CREATED:20180816T193356Z
LAST-MODIFIED:20180816T193356Z
UID:10043-1534593600-1534608000@escapemaker.com
SUMMARY:First Annual One Boob Brew Release Party
DESCRIPTION:Felicia’s Atomic Brewhouse and Bakery is celebrating their one year beer brewing anniversary with a party and the limited release of a new beer\, One Boob Brew IPA. In addition to house-brewed beer – some which will be pink – there will be live music with the band Small Tattoo\, food from the Felicia kitchen\, boob cupcakes from their bakery.
URL:https://escapemaker.com/event/first-annual-one-boob-brew-release-party/
LOCATION:Felicia’s Atomic Brewhouse and Bakery\, 45 E Main St\, Trumansburg\, NY\, 14886\, United States
CATEGORIES:Dining
END:VEVENT
BEGIN:VEVENT
DTSTART;TZID=America/New_York:20180812T170000
DTEND;TZID=America/New_York:20180812T200000
DTSTAMP:20260421T072955
CREATED:20180816T193357Z
LAST-MODIFIED:20180816T193357Z
UID:10044-1534093200-1534104000@escapemaker.com
SUMMARY:Healthy Food for All dinner series
DESCRIPTION:Rememberance Farm Dinner
URL:https://escapemaker.com/event/healthy-food-for-all-dinner-series/
LOCATION:Rememberance Farm\, 6294 Searsburg Rd\, Trumansburg\, NY\, 14886\, United States
CATEGORIES:Dining
END:VEVENT
BEGIN:VEVENT
DTSTART;TZID=America/New_York:20180303T170000
DTEND;TZID=America/New_York:20180303T213000
DTSTAMP:20260421T072955
CREATED:20180307T161101Z
LAST-MODIFIED:20180307T161101Z
UID:8878-1520096400-1520112600@escapemaker.com
SUMMARY:Kite & String Pairing Dinner
DESCRIPTION:Garrett and Melissa will be pouring and chatting all evening as Kite & String takes over Hazelnut Kitchen! We’ll combine our passion for cider making and organic farming with Hazelnut’s three course prix fixe menu perfectly paired with three of our ciders.
URL:https://escapemaker.com/event/kite-string-pairing-dinner/
LOCATION:Hazelnut Kitchen\, 53 E Main St\, Trumansburg\, NY\, 14886\, United States
CATEGORIES:Dining
END:VEVENT
END:VCALENDAR