BEGIN:VCALENDAR
VERSION:2.0
PRODID:-//EscapeMaker - ECPv6.2.2.1//NONSGML v1.0//EN
CALSCALE:GREGORIAN
METHOD:PUBLISH
X-ORIGINAL-URL:https://escapemaker.com
X-WR-CALDESC:Events for EscapeMaker
REFRESH-INTERVAL;VALUE=DURATION:PT1H
X-Robots-Tag:noindex
X-PUBLISHED-TTL:PT1H
BEGIN:VTIMEZONE
TZID:America/New_York
BEGIN:DAYLIGHT
TZOFFSETFROM:-0500
TZOFFSETTO:-0400
TZNAME:EDT
DTSTART:20170312T070000
END:DAYLIGHT
BEGIN:STANDARD
TZOFFSETFROM:-0400
TZOFFSETTO:-0500
TZNAME:EST
DTSTART:20171105T060000
END:STANDARD
BEGIN:DAYLIGHT
TZOFFSETFROM:-0500
TZOFFSETTO:-0400
TZNAME:EDT
DTSTART:20180311T070000
END:DAYLIGHT
BEGIN:STANDARD
TZOFFSETFROM:-0400
TZOFFSETTO:-0500
TZNAME:EST
DTSTART:20181104T060000
END:STANDARD
BEGIN:DAYLIGHT
TZOFFSETFROM:-0500
TZOFFSETTO:-0400
TZNAME:EDT
DTSTART:20190310T070000
END:DAYLIGHT
BEGIN:STANDARD
TZOFFSETFROM:-0400
TZOFFSETTO:-0500
TZNAME:EST
DTSTART:20191103T060000
END:STANDARD
BEGIN:DAYLIGHT
TZOFFSETFROM:-0500
TZOFFSETTO:-0400
TZNAME:EDT
DTSTART:20200308T070000
END:DAYLIGHT
BEGIN:STANDARD
TZOFFSETFROM:-0400
TZOFFSETTO:-0500
TZNAME:EST
DTSTART:20201101T060000
END:STANDARD
BEGIN:DAYLIGHT
TZOFFSETFROM:-0500
TZOFFSETTO:-0400
TZNAME:EDT
DTSTART:20210314T070000
END:DAYLIGHT
BEGIN:STANDARD
TZOFFSETFROM:-0400
TZOFFSETTO:-0500
TZNAME:EST
DTSTART:20211107T060000
END:STANDARD
END:VTIMEZONE
BEGIN:VEVENT
DTSTART;TZID=America/New_York:20210619T130000
DTEND;TZID=America/New_York:20210619T220000
DTSTAMP:20260421T042640
CREATED:20210505T111738Z
LAST-MODIFIED:20210604T155202Z
UID:16293-1624107600-1624140000@escapemaker.com
SUMMARY:Cider\, Blues & BBQ
DESCRIPTION:Spread out in the orchard for a summer night of BBQ and Blues Music and Cider! \nThe Campbell Bros.\nRobert Hill\nAlexis P Suter \nBBQ Food and Hudson Valley Farmhouse Cider for Purchase.\nCatered by the Grille Wagon of the Hudson Valley.\nFree Parking!
URL:https://escapemaker.com/event/cider-blues-bbq/
CATEGORIES:Festival/Sport/Outdoor Activity,Family Fun,Outdoors,Family Fun and Festival,Food & Drink,Food/Wine,Concert,Family/Kid-Friendly,Festival,Outdoor Event,Festival/Music
END:VEVENT
BEGIN:VEVENT
DTSTART;TZID=America/New_York:20180714T190000
DTEND;TZID=America/New_York:20180714T230000
DTSTAMP:20260421T042640
CREATED:20180702T152549Z
LAST-MODIFIED:20180702T152549Z
UID:9602-1531594800-1531609200@escapemaker.com
SUMMARY:Brewery Ommegang Summer Concert Series: Old Crow Medicine Show
DESCRIPTION:Great news\, music fans. Old Crow Medicine Show is returning to the brewery stage this summer on Saturday\, July 14. Tickets are $45.00 in advance and on sale now via DSP Shows and at the brewery store in Cooperstown. Families are welcome for this all-ages show\, and children ages five and under do not require a ticket. Gates 5 PM. Show starts at 7 PM. \nA limited number of camping passes are available to ticket holders until they sell out. Camping passes are $15 and can also be purchased online at dspshows.com. Read on for more information about Old Crow Medicine Show.
URL:https://escapemaker.com/event/brewery-ommegang-summer-concert-series-old-crow-medicine-show/
LOCATION:Brewery Ommegang\, 656 Co Hwy 33\, Cooperstown\, NY\, 13326\, United States
CATEGORIES:Food/Wine,Concert,Outdoor Event
END:VEVENT
BEGIN:VEVENT
DTSTART;TZID=America/New_York:20170804T193000
DTEND;TZID=America/New_York:20170804T213000
DTSTAMP:20260421T042640
CREATED:20170331T185856Z
LAST-MODIFIED:20170331T185856Z
UID:5451-1501875000-1501882200@escapemaker.com
SUMMARY:Summer Nights Live on The Square presents ?Round Midnight Concert in Hancock
DESCRIPTION:Come listen to the performance of ‘Round Midnight sing A Cappella on The Square in Hancock.\nDubbed ?The Barbershop Gateway Drug? by Contemporary A Cappella guru Deke Sharon (?Pitch Perfect\,? ?Pitch Perfect 2\,? and ?The Sing-Off?)\, ?Round Midnight demonstrates how close harmony can be applied to different musical genres such as R&B\, pop\, jazz\, and rock. The quartet was appointed an official ?Arts Envoy? group by the U.S. State Department\, and their performances have spanned the world from Carnegie Hall in New York City to Riga\, Latvia in Eastern Europe.
URL:https://escapemaker.com/event/summer-nights-live-on-the-square-presents-round-midnight-concert-in-hancock/
LOCATION:Destination Hancock\, Hancock Town Square\, Hancock\, NY\, 13783\, United States
CATEGORIES:Concert
END:VEVENT
BEGIN:VEVENT
DTSTART;TZID=America/New_York:20170721T193000
DTEND;TZID=America/New_York:20170721T213000
DTSTAMP:20260421T042640
CREATED:20170331T185856Z
LAST-MODIFIED:20170331T185856Z
UID:5450-1500665400-1500672600@escapemaker.com
SUMMARY:Summer Nights Live on The Square John Hughes Concert on The Square in Hancock
DESCRIPTION:John Hughes is an innovative composer\, kora player\, percussionist and vocalist whose style ranges from elegant and stately West African classical harp music to jazzy\, hypnotic grooves that cross cultural boundaries and fuse disparate influences. Playing ancient traditional instruments not often heard in the United States\, many of which he builds himself\, John takes his audience on an intimate tour of universally musical expressions of joy and hope\, at once soothing and up-lifting.
URL:https://escapemaker.com/event/summer-nights-live-on-the-square-john-hughes-concert-on-the-square-in-hancock/
LOCATION:Destination Hancock\, Hancock Town Square\, Hancock\, NY\, 13783\, United States
CATEGORIES:Concert
END:VEVENT
BEGIN:VEVENT
DTSTART;TZID=America/New_York:20170707T193000
DTEND;TZID=America/New_York:20170707T213000
DTSTAMP:20260421T042640
CREATED:20170331T185856Z
LAST-MODIFIED:20170331T185856Z
UID:5449-1499455800-1499463000@escapemaker.com
SUMMARY:Summer Nights Live on The Square Alash Ensemble Alash Ensemble in Hancock
DESCRIPTION:Come listen to Alash perform traditional music from Tuva (which is located at the southern edge of Siberia). Alash are masters of Tuvan throat singing\, a remarkable technique for singing multiple pitches at the same time on The Square in Hancock.\nMasters of traditional Tuvan instruments as well as the art of throat singing\, Alash are deeply committed to traditional Tuvan music and culture. At the same time\, they are fans of western music. Believing that traditional music must constantly evolve\, the musicians subtly infuse their songs with western elements\, creating their own unique style that is fresh and new\, yet true to their Tuvan musical heritage.
URL:https://escapemaker.com/event/summer-nights-live-on-the-square-alash-ensemble-alash-ensemble-in-hancock/
LOCATION:Destination Hancock\, Hancock Town Square\, Hancock\, NY\, 13783\, United States
CATEGORIES:Concert
END:VEVENT
BEGIN:VEVENT
DTSTART;TZID=America/New_York:20170616T210000
DTEND;TZID=America/New_York:20170616T210000
DTSTAMP:20260421T042640
CREATED:20170331T185855Z
LAST-MODIFIED:20170331T185855Z
UID:5448-1497646800-1497646800@escapemaker.com
SUMMARY:Summer Nights Live on The Square Rani Arbo & daisy mayhem Conert in Hancock
DESCRIPTION:Harmony\, rhythm\, indelible songs ? these are the hallmarks of Rani Arbo & daisy mayhem\, the New England based folk quartet now in its 17th year. From the Newport Folk Festival to the California World Music Festival and beyond\, this band?s steadfast brew of wit\, camaraderie\, and musicality leaves audiences everywhere humming and hopeful\, spirits renewed.
URL:https://escapemaker.com/event/summer-nights-live-on-the-square-rani-arbo-daisy-mayhem-conert-in-hancock/
LOCATION:Destination Hancock\, Hancock Town Square\, Hancock\, NY\, 13783\, United States
CATEGORIES:Concert
END:VEVENT
BEGIN:VEVENT
DTSTART;TZID=America/New_York:20170528T100000
DTEND;TZID=America/New_York:20170528T160000
DTSTAMP:20260421T042640
CREATED:20170331T185855Z
LAST-MODIFIED:20170331T185855Z
UID:5447-1495965600-1495987200@escapemaker.com
SUMMARY:Summer Nights Live on The Square Memorial Day Kickoff in Hancock
DESCRIPTION:Bigger and better than ever this year! The 2017 Memorial Day Weekend Summer Kickoff Event returns to the Hancock Town Square with featured musical artist 2/3 Goat!The fun begins at 10am when the Hancock Farm Market goes into full swing with local produce\, artisan foods\, craft vendors\, and more? then 2/3 Goat takes the stage around 12 noon after a tribute to our fallen heroes.\nThe fun-filled day continues with live music\, chicken bbq\, arts and crafts vendors\, games for kids\, and more surprises throughout the day.
URL:https://escapemaker.com/event/summer-nights-live-on-the-square-memorial-day-kickoff-in-hancock/
LOCATION:Destination Hancock\, Hancock Town Square\, Hancock\, NY\, 13783\, United States
CATEGORIES:Concert
END:VEVENT
BEGIN:VEVENT
DTSTART;TZID=America/New_York:20170506T193000
DTEND;TZID=America/New_York:20170506T213000
DTSTAMP:20260421T042640
CREATED:20170331T185851Z
LAST-MODIFIED:20170331T185851Z
UID:5440-1494099000-1494106200@escapemaker.com
SUMMARY:Ethel
DESCRIPTION:ETHEL performs Blue Dress\, the string quartet of now at Roxbury Arts Group.\nETHEL\, the post-modern\, indie-classical quartet\, pays special homage to the brilliant\, gorgeous and masterful women who are making their musical mark on the 21st century. Sometimes fierce\, sometimes seductive\, always full of creativity\, composers like Anna Clyne\, Missy Mazzoli\, and Pulitzer Prize-winner Julia Wolfe\, are\, through their own voices\, warriors and champions of music today. \nThe group ongoingly champions the music of emerging artists\, and performs adventurous music by celebrated contemporary composers such as Philip Glass\, Julia Wolfe\, Phil Kline\, Andy Akiho\, David Lang\, John King\, John Zorn\, Steve Reich\, Anna Clyne\, Kenji Bunch\, JacobTV\, Don Byron\, Marcelo Zarvos\, Evan Ziporyn\, Judd Greenstein\, Terry Riley\, James Kimo Williams and Mary Ellen Childs. Over the past five years\, ETHEL has premiered 150+ new works\, many of them commissioned by the quartet.
URL:https://escapemaker.com/event/ethel/
LOCATION:Roxbury Arts Center\, 5025 Vega Mountain Road\, Roxbury\, NY\, 12474\, United States
CATEGORIES:Concert
END:VEVENT
BEGIN:VEVENT
DTSTART;TZID=America/New_York:20170408T193000
DTEND;TZID=America/New_York:20170408T213000
DTSTAMP:20260421T042640
CREATED:20170331T185902Z
LAST-MODIFIED:20170331T185902Z
UID:5470-1491679800-1491687000@escapemaker.com
SUMMARY:Eight is Enough
DESCRIPTION:A dynamic a capella madrigal group of singers from the Oneonta area who perform a wide range of vocal numbers\, from renaissance madrigals to Beatles and jazz. Do not miss this group. They appeared in our Coffeehouse series and no one wanted them to end. Their singingis phenomenal and the variety of music is unbelievable. Talented and a lot of fun!
URL:https://escapemaker.com/event/eight-is-enough/
LOCATION:Walton Theatre\,  30 Gardiner Place\, Walton \, NY\, 13856\, United States
CATEGORIES:Concert
END:VEVENT
END:VCALENDAR